<?xml version="1.0" encoding="UTF-8" standalone="no"?>
<metadata xml:lang="en">
<Esri>
<CreaDate>20161007</CreaDate>
<CreaTime>08422000</CreaTime>
<ArcGISFormat>1.0</ArcGISFormat>
<SyncOnce>FALSE</SyncOnce>
<DataProperties>
<lineage>
<Process Date="20120830" Time="135136" ToolSource="C:\Program Files (x86)\ArcGIS\Desktop10.0\ArcToolbox\Toolboxes\Data Management Tools.tbx\CreateMosaicDataset">CreateMosaicDataset "Database Connections\GIS_Production_DBA.sde" Imagery_1937 "PROJCS['NAD_1983_HARN_Adj_MN_Carver_Feet',GEOGCS['GCS_NAD_1983_HARN_Adj_MN_Carver',DATUM['D_NAD_1983_HARN_Adj_MN_Carver',SPHEROID['S_GRS_1980_Adj_MN_Carver',6378400.653,298.2572221008827]],PRIMEM['Greenwich',0.0],UNIT['Degree',0.0174532925199433]],PROJECTION['Lambert_Conformal_Conic'],PARAMETER['False_Easting',500000.0],PARAMETER['False_Northing',100000.0],PARAMETER['Central_Meridian',-93.76666666666667],PARAMETER['Standard_Parallel_1',44.68333333333333],PARAMETER['Standard_Parallel_2',44.9],PARAMETER['Latitude_Of_Origin',44.63972222222222],UNIT['Foot_US',0.3048006096012192]];-119161400 -98391700 37636193.6879436;-100000 10000;-100000 10000;3.28083333333333E-03;0.001;0.001;IsHighPrecision" # #</Process>
<Process Date="20120830" Time="135200" ToolSource="C:\Program Files (x86)\ArcGIS\Desktop10.0\ArcToolbox\Toolboxes\Data Management Tools.tbx\ChangePrivileges">ChangePrivileges 'Database Connections\GIS_Production_DBA.sde\GIS_Production.GIS_DBA.Imagery_1937' arcims GRANT #</Process>
<Process Date="20120830" Time="135211" ToolSource="C:\Program Files (x86)\ArcGIS\Desktop10.0\ArcToolbox\Toolboxes\Data Management Tools.tbx\ChangePrivileges">ChangePrivileges 'Database Connections\GIS_Production_DBA.sde\GIS_Production.GIS_DBA.Imagery_1937' carverco\all # #</Process>
<Process Date="20120830" Time="135225" ToolSource="C:\Program Files (x86)\ArcGIS\Desktop10.0\ArcToolbox\Toolboxes\Data Management Tools.tbx\ChangePrivileges">ChangePrivileges 'Database Connections\GIS_Production_DBA.sde\GIS_Production.GIS_DBA.Imagery_1937' carverco\all GRANT #</Process>
<Process Date="20120830" Time="135447" ToolSource="C:\Program Files (x86)\ArcGIS\Desktop10.0\ArcToolbox\Toolboxes\Data Management Tools.tbx\AddRastersToMosaicDataset">AddRastersToMosaicDataset "Database Connections\GIS_Production_DBA.sde\GIS_Production.GIS_DBA.Imagery_1937" "Raster Dataset @ C:\Users\phenschel\AppData\Roaming\ESRI\Desktop10.0\ArcCatalog\GIS_Production_DBA.sde\GIS_Production.GIS_DBA.Imagery_1937\RasterType.OBJECTID=1" \\ch_pictometry\pictometry\Ortho_Imagery_Library\1937\WM_20_1777.tif;\\ch_pictometry\pictometry\Ortho_Imagery_Library\1937\WM_20_1776.tif;\\ch_pictometry\pictometry\Ortho_Imagery_Library\1937\WM_20_1774.tif;\\ch_pictometry\pictometry\Ortho_Imagery_Library\1937\WM_20_1769.tif;\\ch_pictometry\pictometry\Ortho_Imagery_Library\1937\WM_20_1767.tif;\\ch_pictometry\pictometry\Ortho_Imagery_Library\1937\WM_20_1766.tif;\\ch_pictometry\pictometry\Ortho_Imagery_Library\1937\WM_20_1764.tif;\\ch_pictometry\pictometry\Ortho_Imagery_Library\1937\WM_20_1763.tif;\\ch_pictometry\pictometry\Ortho_Imagery_Library\1937\WM_20_1761.tif;\\ch_pictometry\pictometry\Ortho_Imagery_Library\1937\WM_20_1759.tif;\\ch_pictometry\pictometry\Ortho_Imagery_Library\1937\WM_20_1757.tif;\\ch_pictometry\pictometry\Ortho_Imagery_Library\1937\WM_20_1754.tif;\\ch_pictometry\pictometry\Ortho_Imagery_Library\1937\WM_20_1753.tif;\\ch_pictometry\pictometry\Ortho_Imagery_Library\1937\WM_20_1751.tif;\\ch_pictometry\pictometry\Ortho_Imagery_Library\1937\WM_20_1749.tif;\\ch_pictometry\pictometry\Ortho_Imagery_Library\1937\WM_20_1747.tif;\\ch_pictometry\pictometry\Ortho_Imagery_Library\1937\WM_20_1745.tif;\\ch_pictometry\pictometry\Ortho_Imagery_Library\1937\WM_20_1744.tif;\\ch_pictometry\pictometry\Ortho_Imagery_Library\1937\WM_20_1742.tif;\\ch_pictometry\pictometry\Ortho_Imagery_Library\1937\WM_20_1741.tif;\\ch_pictometry\pictometry\Ortho_Imagery_Library\1937\WM_20_1739.tif;\\ch_pictometry\pictometry\Ortho_Imagery_Library\1937\WM_20_1737.tif;\\ch_pictometry\pictometry\Ortho_Imagery_Library\1937\WM_19_1736.tif;\\ch_pictometry\pictometry\Ortho_Imagery_Library\1937\WM_19_1733.tif;\\ch_pictometry\pictometry\Ortho_Imagery_Library\1937\WM_19_1730.tif;\\ch_pictometry\pictometry\Ortho_Imagery_Library\1937\WM_19_1727.tif;\\ch_pictometry\pictometry\Ortho_Imagery_Library\1937\WM_19_1724.tif;\\ch_pictometry\pictometry\Ortho_Imagery_Library\1937\WM_19_1721.tif;\\ch_pictometry\pictometry\Ortho_Imagery_Library\1937\WM_19_1718.tif;\\ch_pictometry\pictometry\Ortho_Imagery_Library\1937\WM_19_1711.tif;\\ch_pictometry\pictometry\Ortho_Imagery_Library\1937\WM_19_1710.tif;\\ch_pictometry\pictometry\Ortho_Imagery_Library\1937\WM_19_1709.tif;\\ch_pictometry\pictometry\Ortho_Imagery_Library\1937\WM_19_1707.tif;\\ch_pictometry\pictometry\Ortho_Imagery_Library\1937\WM_19_1705.tif;\\ch_pictometry\pictometry\Ortho_Imagery_Library\1937\WM_19_1703.tif;\\ch_pictometry\pictometry\Ortho_Imagery_Library\1937\WM_19_1701.tif;\\ch_pictometry\pictometry\Ortho_Imagery_Library\1937\WM_19_1699.tif;\\ch_pictometry\pictometry\Ortho_Imagery_Library\1937\WM_19_1697.tif;\\ch_pictometry\pictometry\Ortho_Imagery_Library\1937\WM_19_1695.tif;\\ch_pictometry\pictometry\Ortho_Imagery_Library\1937\WM_19_1693.tif;\\ch_pictometry\pictometry\Ortho_Imagery_Library\1937\WM_19_1691.tif;\\ch_pictometry\pictometry\Ortho_Imagery_Library\1937\WM_19_1689.tif;\\ch_pictometry\pictometry\Ortho_Imagery_Library\1937\WM_19_1687.tif;\\ch_pictometry\pictometry\Ortho_Imagery_Library\1937\WM_19_1685.tif;\\ch_pictometry\pictometry\Ortho_Imagery_Library\1937\WM_19_1683.tif;\\ch_pictometry\pictometry\Ortho_Imagery_Library\1937\WM_19_1682.tif;\\ch_pictometry\pictometry\Ortho_Imagery_Library\1937\WM_19_1677.tif;\\ch_pictometry\pictometry\Ortho_Imagery_Library\1937\WM_19_1675.tif;\\ch_pictometry\pictometry\Ortho_Imagery_Library\1937\WM_19_1673.tif;\\ch_pictometry\pictometry\Ortho_Imagery_Library\1937\WM_19_1671.tif;\\ch_pictometry\pictometry\Ortho_Imagery_Library\1937\WM_19_1661.tif;\\ch_pictometry\pictometry\Ortho_Imagery_Library\1937\WM_19_1658.tif;\\ch_pictometry\pictometry\Ortho_Imagery_Library\1937\WM_19_1656.tif;\\ch_pictometry\pictometry\Ortho_Imagery_Library\1937\WM_19_1654.tif;\\ch_pictometry\pictometry\Ortho_Imagery_Library\1937\WM_19_1652.tif;\\ch_pictometry\pictometry\Ortho_Imagery_Library\1937\WM_19_1648.tif;\\ch_pictometry\pictometry\Ortho_Imagery_Library\1937\WM_18_1646.tif;\\ch_pictometry\pictometry\Ortho_Imagery_Library\1937\WM_18_1644.tif;\\ch_pictometry\pictometry\Ortho_Imagery_Library\1937\WM_18_1642.tif;\\ch_pictometry\pictometry\Ortho_Imagery_Library\1937\WM_18_1640.tif;\\ch_pictometry\pictometry\Ortho_Imagery_Library\1937\WM_18_1637.tif;\\ch_pictometry\pictometry\Ortho_Imagery_Library\1937\WM_18_1635.tif;\\ch_pictometry\pictometry\Ortho_Imagery_Library\1937\WM_18_1633.tif;\\ch_pictometry\pictometry\Ortho_Imagery_Library\1937\WM_18_1631.tif;\\ch_pictometry\pictometry\Ortho_Imagery_Library\1937\WM_18_1629.tif;\\ch_pictometry\pictometry\Ortho_Imagery_Library\1937\WM_18_1627.tif;\\ch_pictometry\pictometry\Ortho_Imagery_Library\1937\WM_18_1625.tif;\\ch_pictometry\pictometry\Ortho_Imagery_Library\1937\WM_18_1623.tif;\\ch_pictometry\pictometry\Ortho_Imagery_Library\1937\WM_18_1621.tif;\\ch_pictometry\pictometry\Ortho_Imagery_Library\1937\WM_18_1619.tif;\\ch_pictometry\pictometry\Ortho_Imagery_Library\1937\WM_18_1617.tif;\\ch_pictometry\pictometry\Ortho_Imagery_Library\1937\WM_18_1615.tif;\\ch_pictometry\pictometry\Ortho_Imagery_Library\1937\WM_18_1613.tif;\\ch_pictometry\pictometry\Ortho_Imagery_Library\1937\WM_18_1611.tif;\\ch_pictometry\pictometry\Ortho_Imagery_Library\1937\WM_18_1610.tif;\\ch_pictometry\pictometry\Ortho_Imagery_Library\1937\WM_18_1609.tif;\\ch_pictometry\pictometry\Ortho_Imagery_Library\1937\WM_18_1607.tif;\\ch_pictometry\pictometry\Ortho_Imagery_Library\1937\WM_18_1605.tif;\\ch_pictometry\pictometry\Ortho_Imagery_Library\1937\WM_18_1603.tif;\\ch_pictometry\pictometry\Ortho_Imagery_Library\1937\WM_18_1601.tif;\\ch_pictometry\pictometry\Ortho_Imagery_Library\1937\WM_18_1599.tif;\\ch_pictometry\pictometry\Ortho_Imagery_Library\1937\WM_18_1597.tif;\\ch_pictometry\pictometry\Ortho_Imagery_Library\1937\WM_18_1595.tif;\\ch_pictometry\pictometry\Ortho_Imagery_Library\1937\WM_18_1593.tif;\\ch_pictometry\pictometry\Ortho_Imagery_Library\1937\WM_18_1591.tif;\\ch_pictometry\pictometry\Ortho_Imagery_Library\1937\WM_18_1589.tif;\\ch_pictometry\pictometry\Ortho_Imagery_Library\1937\WM_18_1587.tif;\\ch_pictometry\pictometry\Ortho_Imagery_Library\1937\WM_18_1585.tif;\\ch_pictometry\pictometry\Ortho_Imagery_Library\1937\WM_18_1583.tif;\\ch_pictometry\pictometry\Ortho_Imagery_Library\1937\WM_18_1579.tif;\\ch_pictometry\pictometry\Ortho_Imagery_Library\1937\WM_18_1575.tif;\\ch_pictometry\pictometry\Ortho_Imagery_Library\1937\WM_18_1573.tif;\\ch_pictometry\pictometry\Ortho_Imagery_Library\1937\WM_18_1571.tif;\\ch_pictometry\pictometry\Ortho_Imagery_Library\1937\WM_18_1569.tif;\\ch_pictometry\pictometry\Ortho_Imagery_Library\1937\WM_18_1567.tif;\\ch_pictometry\pictometry\Ortho_Imagery_Library\1937\WM_18_1565.tif;\\ch_pictometry\pictometry\Ortho_Imagery_Library\1937\WM_18_1563.tif;\\ch_pictometry\pictometry\Ortho_Imagery_Library\1937\WM_18_1561.tif;\\ch_pictometry\pictometry\Ortho_Imagery_Library\1937\WM_18_1559.tif;\\ch_pictometry\pictometry\Ortho_Imagery_Library\1937\WM_18_1557.tif;\\ch_pictometry\pictometry\Ortho_Imagery_Library\1937\WM_18_1555.tif;\\ch_pictometry\pictometry\Ortho_Imagery_Library\1937\WM_18_1553.tif;\\ch_pictometry\pictometry\Ortho_Imagery_Library\1937\WM_18_1551.tif;\\ch_pictometry\pictometry\Ortho_Imagery_Library\1937\WM_17_1545.tif;\\ch_pictometry\pictometry\Ortho_Imagery_Library\1937\WM_17_1544.tif;\\ch_pictometry\pictometry\Ortho_Imagery_Library\1937\WM_17_1542.tif;\\ch_pictometry\pictometry\Ortho_Imagery_Library\1937\WM_17_1540.tif;\\ch_pictometry\pictometry\Ortho_Imagery_Library\1937\WM_17_1538.tif;\\ch_pictometry\pictometry\Ortho_Imagery_Library\1937\WM_17_1536.tif;\\ch_pictometry\pictometry\Ortho_Imagery_Library\1937\WM_17_1534.tif;\\ch_pictometry\pictometry\Ortho_Imagery_Library\1937\WM_17_1529.tif;\\ch_pictometry\pictometry\Ortho_Imagery_Library\1937\WM_17_1527.tif;\\ch_pictometry\pictometry\Ortho_Imagery_Library\1937\WM_17_1526.tif;\\ch_pictometry\pictometry\Ortho_Imagery_Library\1937\WM_17_1524.tif;\\ch_pictometry\pictometry\Ortho_Imagery_Library\1937\WM_17_1522.tif;\\ch_pictometry\pictometry\Ortho_Imagery_Library\1937\WM_17_1520.tif;\\ch_pictometry\pictometry\Ortho_Imagery_Library\1937\WM_17_1518.tif;\\ch_pictometry\pictometry\Ortho_Imagery_Library\1937\WM_17_1516.tif;\\ch_pictometry\pictometry\Ortho_Imagery_Library\1937\WM_17_1514.tif;\\ch_pictometry\pictometry\Ortho_Imagery_Library\1937\WM_17_1512.tif;\\ch_pictometry\pictometry\Ortho_Imagery_Library\1937\WM_17_1510.tif;\\ch_pictometry\pictometry\Ortho_Imagery_Library\1937\WM_17_1508.tif;\\ch_pictometry\pictometry\Ortho_Imagery_Library\1937\WM_17_1506.tif;\\ch_pictometry\pictometry\Ortho_Imagery_Library\1937\WM_17_1500.tif;\\ch_pictometry\pictometry\Ortho_Imagery_Library\1937\WM_17_1498.tif;\\ch_pictometry\pictometry\Ortho_Imagery_Library\1937\WM_17_1496.tif;\\ch_pictometry\pictometry\Ortho_Imagery_Library\1937\WM_17_1494.tif;\\ch_pictometry\pictometry\Ortho_Imagery_Library\1937\WM_17_1492.tif;\\ch_pictometry\pictometry\Ortho_Imagery_Library\1937\WM_17_1490.tif;\\ch_pictometry\pictometry\Ortho_Imagery_Library\1937\WM_17_1489.tif;\\ch_pictometry\pictometry\Ortho_Imagery_Library\1937\WM_17_1488.tif;\\ch_pictometry\pictometry\Ortho_Imagery_Library\1937\WM_17_1478.tif;\\ch_pictometry\pictometry\Ortho_Imagery_Library\1937\WM_17_1475.tif;\\ch_pictometry\pictometry\Ortho_Imagery_Library\1937\WM_17_1473.tif;\\ch_pictometry\pictometry\Ortho_Imagery_Library\1937\WM_17_1471.tif;\\ch_pictometry\pictometry\Ortho_Imagery_Library\1937\WM_17_1469.tif;\\ch_pictometry\pictometry\Ortho_Imagery_Library\1937\WM_17_1465.tif;\\ch_pictometry\pictometry\Ortho_Imagery_Library\1937\WM_17_1463.tif;\\ch_pictometry\pictometry\Ortho_Imagery_Library\1937\WM_17_1461.tif UPDATE_CELL_SIZES UPDATE_BOUNDARY NO_OVERVIEWS # 0 1500 # # NO_SUBFOLDERS OVERWRITE_DUPLICATES NO_PYRAMIDS NO_STATISTICS NO_THUMBNAILS #</Process>
<Process Date="20120830" Time="135704" ToolSource="C:\Program Files (x86)\ArcGIS\Desktop10.0\ArcToolbox\Toolboxes\Data Management Tools.tbx\DefineOverviews">DefineOverviews "Database Connections\GIS_Production_DBA.sde\GIS_Production.GIS_DBA.Imagery_1937" \\ch_pictometry\pictometry\Ortho_Imagery_Library\1937\Overviews # "428715.359250486 96084.0569014102 572651.778656691 232190.624477714" # # 5120 5120 3 NO_FORCE_OVERVIEW_TILES BILINEAR JPEG 80</Process>
<Process Date="20120830" Time="140046" ToolSource="C:\Program Files (x86)\ArcGIS\Desktop10.0\ArcToolbox\Toolboxes\Data Management Tools.tbx\BuildFootprints">BuildFootprints "Database Connections\GIS_Production_DBA.sde\GIS_Production.GIS_DBA.Imagery_1937" # RESET_FOOTPRINT 1 65535 4 0 NO_MAINTAIN_EDGES NO_SKIP_DERIVED_IMAGES UPDATE_BOUNDARY 2000 100</Process>
<Process Date="20120830" Time="142238" ToolSource="C:\Program Files (x86)\ArcGIS\Desktop10.0\ArcToolbox\Toolboxes\Data Management Tools.tbx\RemoveRastersFromMosaicDataset">RemoveRastersFromMosaicDataset "Database Connections\GIS_Production_DBA.sde\GIS_Production.GIS_DBA.Imagery_1937" "OBJECTID = 31" UPDATE_BOUNDARY NO_MARK_OVERVIEW_ITEMS NO_DELETE_OVERVIEW_IMAGES</Process>
<Process Date="20120830" Time="143003" ToolSource="C:\Program Files (x86)\ArcGIS\Desktop10.0\ArcToolbox\Toolboxes\Data Management Tools.tbx\BuildOverviews">BuildOverviews "Database Connections\GIS_Production_DBA.sde\GIS_Production.GIS_DBA.Imagery_1937" # DEFINE_MISSING_TILES GENERATE_OVERVIEWS GENERATE_MISSING_IMAGES REGENERATE_STALE_IMAGES</Process>
<Process Date="20140310" Time="152933" ToolSource="c:\program files (x86)\arcgis\desktop10.2\ArcToolbox\Toolboxes\Data Management Tools.tbx\ChangePrivileges">ChangePrivileges 'Database Connections\GIS_Production_DBA.sde\GIS_Production.GIS_DBA.Imagery_1937';'Database Connections\GIS_Production_DBA.sde\GIS_Production.GIS_DBA.Imagery_1979';'Database Connections\GIS_Production_DBA.sde\GIS_Production.GIS_DBA.Imagery_1991_USGS';'Database Connections\GIS_Production_DBA.sde\GIS_Production.GIS_DBA.Imagery_2000_MetCouncil';'Database Connections\GIS_Production_DBA.sde\GIS_Production.GIS_DBA.Imagery_1991_USGS';'Database Connections\GIS_Production_DBA.sde\GIS_Production.GIS_DBA.Imagery_1997_MetCouncil';'Database Connections\GIS_Production_DBA.sde\GIS_Production.GIS_DBA.Imagery_2005_AeroMetric' carverco\all GRANT AS_IS</Process>
<Process Date="20140310" Time="153118" ToolSource="c:\program files (x86)\arcgis\desktop10.2\ArcToolbox\Toolboxes\Data Management Tools.tbx\ChangePrivileges">ChangePrivileges 'Database Connections\GIS_Production_DBA.sde\GIS_Production.GIS_DBA.Imagery_1937';'Database Connections\GIS_Production_DBA.sde\GIS_Production.GIS_DBA.Imagery_1979';'Database Connections\GIS_Production_DBA.sde\GIS_Production.GIS_DBA.Imagery_1991_USGS';'Database Connections\GIS_Production_DBA.sde\GIS_Production.GIS_DBA.Imagery_1997_MetCouncil';'Database Connections\GIS_Production_DBA.sde\GIS_Production.GIS_DBA.Imagery_2000_MetCouncil';'Database Connections\GIS_Production_DBA.sde\GIS_Production.GIS_DBA.Imagery_2002_AerialExpress';'Database Connections\GIS_Production_DBA.sde\GIS_Production.GIS_DBA.Imagery_2005_AeroMetric' GIS_Chaska_Viewer GRANT AS_IS</Process>
<Process Date="20150128" Time="125907" ToolSource="c:\program files\arcgis\desktop10.2\ArcToolbox\Toolboxes\Data Management Tools.tbx\UpgradeDataset">UpgradeDataset "Database Connections\GIS_Production_GIS_DBA.sde\GIS_Production.GIS_DBA.Imagery_1937"</Process>
</lineage>
<itemProps>
<itemName Sync="TRUE">GIS_Production.GIS_DBA.Imagery_1937</itemName>
<itemLocation>
<linkage Sync="TRUE">Server=GISSQL; Service=sde:sqlserver:GISSQL; Database=GIS_Production; User=GIS_Prod_Admin; Version=sde.DEFAULT</linkage>
<protocol Sync="TRUE">ArcSDE Connection</protocol>
</itemLocation>
<nativeExtBox>
<westBL Sync="TRUE">428715.359250</westBL>
<eastBL Sync="TRUE">572652.421065</eastBL>
<southBL Sync="TRUE">96083.003996</southBL>
<northBL Sync="TRUE">232190.624478</northBL>
<exTypeCode Sync="TRUE">1</exTypeCode>
</nativeExtBox>
</itemProps>
<coordRef>
<type Sync="TRUE">Projected</type>
<geogcsn Sync="TRUE">GCS_NAD_1983_HARN_Adj_MN_Carver</geogcsn>
<csUnits Sync="TRUE">Linear Unit: Foot_US (0.304801)</csUnits>
<projcsn Sync="TRUE">NAD_1983_HARN_Adj_MN_Carver_Feet</projcsn>
<peXml Sync="TRUE">&lt;ProjectedCoordinateSystem xsi:type='typens:ProjectedCoordinateSystem' xmlns:xsi='http://www.w3.org/2001/XMLSchema-instance' xmlns:xs='http://www.w3.org/2001/XMLSchema' xmlns:typens='http://www.esri.com/schemas/ArcGIS/10.1'&gt;&lt;WKT&gt;PROJCS[&amp;quot;NAD_1983_HARN_Adj_MN_Carver_Feet&amp;quot;,GEOGCS[&amp;quot;GCS_NAD_1983_HARN_Adj_MN_Carver&amp;quot;,DATUM[&amp;quot;D_NAD_1983_HARN_Adj_MN_Carver&amp;quot;,SPHEROID[&amp;quot;S_GRS_1980_Adj_MN_Carver&amp;quot;,6378400.653,298.2572221008827]],PRIMEM[&amp;quot;Greenwich&amp;quot;,0.0],UNIT[&amp;quot;Degree&amp;quot;,0.0174532925199433]],PROJECTION[&amp;quot;Lambert_Conformal_Conic&amp;quot;],PARAMETER[&amp;quot;False_Easting&amp;quot;,500000.0],PARAMETER[&amp;quot;False_Northing&amp;quot;,100000.0],PARAMETER[&amp;quot;Central_Meridian&amp;quot;,-93.76666666666667],PARAMETER[&amp;quot;Standard_Parallel_1&amp;quot;,44.68333333333333],PARAMETER[&amp;quot;Standard_Parallel_2&amp;quot;,44.9],PARAMETER[&amp;quot;Latitude_Of_Origin&amp;quot;,44.63972222222222],UNIT[&amp;quot;Foot_US&amp;quot;,0.3048006096012192],AUTHORITY[&amp;quot;ESRI&amp;quot;,103717]]&lt;/WKT&gt;&lt;XOrigin&gt;-119161400&lt;/XOrigin&gt;&lt;YOrigin&gt;-98391700&lt;/YOrigin&gt;&lt;XYScale&gt;37636193.687943608&lt;/XYScale&gt;&lt;ZOrigin&gt;-100000&lt;/ZOrigin&gt;&lt;ZScale&gt;10000&lt;/ZScale&gt;&lt;MOrigin&gt;-100000&lt;/MOrigin&gt;&lt;MScale&gt;10000&lt;/MScale&gt;&lt;XYTolerance&gt;0.0032808333333333331&lt;/XYTolerance&gt;&lt;ZTolerance&gt;0.001&lt;/ZTolerance&gt;&lt;MTolerance&gt;0.001&lt;/MTolerance&gt;&lt;HighPrecision&gt;true&lt;/HighPrecision&gt;&lt;WKID&gt;103717&lt;/WKID&gt;&lt;LatestWKID&gt;103717&lt;/LatestWKID&gt;&lt;/ProjectedCoordinateSystem&gt;</peXml>
</coordRef>
<RasterProperties>
<General>
<PixelDepth Sync="TRUE">16</PixelDepth>
<HasColormap Sync="TRUE">FALSE</HasColormap>
<CompressionType Sync="TRUE">None</CompressionType>
<NumBands Sync="TRUE">3</NumBands>
<Format Sync="TRUE">AMD</Format>
<HasPyramids Sync="TRUE">TRUE</HasPyramids>
<SourceType Sync="TRUE">continuous</SourceType>
<PixelType Sync="TRUE">unsigned integer</PixelType>
<NoDataValue Sync="TRUE">0</NoDataValue>
</General>
<Properties>
<MaxImageHeight Sync="TRUE">4100</MaxImageHeight>
<MaxImageWidth Sync="TRUE">15000</MaxImageWidth>
<MaxRecordCount Sync="TRUE">1000</MaxRecordCount>
<MaxDownloadImageCount Sync="TRUE">20</MaxDownloadImageCount>
<MaxMosaicImageCount Sync="TRUE">20</MaxMosaicImageCount>
<DefaultCompressionQuality Sync="TRUE">75</DefaultCompressionQuality>
<ViewpointSpacingX Sync="TRUE">600</ViewpointSpacingX>
<ViewpointSpacingY Sync="TRUE">300</ViewpointSpacingY>
<AllowedItemMetadata Sync="TRUE">Full</AllowedItemMetadata>
<DefaultResamplingMethod Sync="TRUE">1</DefaultResamplingMethod>
<AllowedMosaicMethods Sync="TRUE">Center,NorthWest,LockRaster,ByAttribute,Nadir,Viewpoint,Seamline,None</AllowedMosaicMethods>
<AllowedCompressions Sync="TRUE">None,JPEG,LZ77</AllowedCompressions>
<AvailableMosaicMethods Sync="TRUE">NorthWest,Center,LockRaster,ByAttribute,Nadir,Viewpoint,Seamline,None</AvailableMosaicMethods>
<AvailableCompressionMethods Sync="TRUE">None,JPEG,LZ77,LERC</AvailableCompressionMethods>
<AvailableItemMetadataLevels Sync="TRUE">None,Basic,Full</AvailableItemMetadataLevels>
<ConfigKeyword Sync="TRUE"/>
<AllowedFields Sync="TRUE">Name,MinPS,MaxPS,LowPS,HighPS,Tag,GroupName,ProductName,CenterX,CenterY,ZOrder,SOrder,StereoID,Shape.area,Shape.len</AllowedFields>
<ApplyColorCorrection Sync="TRUE">0</ApplyColorCorrection>
</Properties>
<Functions Sync="TRUE">
<Function Description="Perform on-the-fly mosaic on a raster catalog." Name="Mosaic Function"/>
</Functions>
</RasterProperties>
</DataProperties>
<SyncDate>20150103</SyncDate>
<SyncTime>20594800</SyncTime>
<ModDate>20150103</ModDate>
<ModTime>20594800</ModTime>
</Esri>
<dataIdInfo>
<envirDesc Sync="TRUE">Microsoft Windows Server 2008 R2 Version 6.1 (Build 7601) Service Pack 1; Esri ArcGIS 10.2.0.3370</envirDesc>
<dataLang>
<languageCode Sync="TRUE" value="eng"/>
<countryCode Sync="TRUE" value="USA"/>
</dataLang>
<idCitation>
<resTitle Sync="TRUE">CC_Imagery_1937</resTitle>
<presForm>
<PresFormCd Sync="TRUE" value="005"/>
</presForm>
</idCitation>
<spatRpType>
<SpatRepTypCd Sync="TRUE" value="002"/>
</spatRpType>
<dataExt>
<geoEle>
<GeoBndBox esriExtentType="search">
<exTypeCode Sync="TRUE">1</exTypeCode>
<westBL Sync="TRUE">-94.042231</westBL>
<eastBL Sync="TRUE">-93.485815</eastBL>
<northBL Sync="TRUE">45.002277</northBL>
<southBL Sync="TRUE">44.628637</southBL>
</GeoBndBox>
</geoEle>
</dataExt>
<idAbs/>
<idPurp>OpenAccess/CC_Imagery_1937</idPurp>
<idCredit/>
<resConst>
<Consts>
<useLimit/>
</Consts>
</resConst>
</dataIdInfo>
<mdLang>
<languageCode Sync="TRUE" value="eng"/>
<countryCode Sync="TRUE" value="USA"/>
</mdLang>
<refSysInfo>
<RefSystem>
<refSysID>
<identCode Sync="TRUE" code="103717"/>
<idCodeSpace Sync="TRUE">ESRI</idCodeSpace>
<idVersion Sync="TRUE">10.2.0</idVersion>
</refSysID>
</RefSystem>
</refSysInfo>
<spatRepInfo>
<Georect>
<cellGeo>
<CellGeoCd Sync="TRUE" value="002"/>
</cellGeo>
<numDims Sync="TRUE">2</numDims>
<tranParaAv Sync="TRUE">1</tranParaAv>
<chkPtAv Sync="TRUE">0</chkPtAv>
<cornerPts>
<pos Sync="TRUE">428715.359250 96083.003996</pos>
</cornerPts>
<cornerPts>
<pos Sync="TRUE">428715.359250 232190.624478</pos>
</cornerPts>
<cornerPts>
<pos Sync="TRUE">572652.421065 232190.624478</pos>
</cornerPts>
<cornerPts>
<pos Sync="TRUE">572652.421065 96083.003996</pos>
</cornerPts>
<centerPt>
<pos Sync="TRUE">500683.890158 164136.814237</pos>
</centerPt>
<axisDimension type="002">
<dimSize Sync="TRUE">26326</dimSize>
<dimResol>
<value Sync="TRUE" uom="Foot_US">5.467487</value>
</dimResol>
</axisDimension>
<axisDimension type="001">
<dimSize Sync="TRUE">24894</dimSize>
<dimResol>
<value Sync="TRUE" uom="Foot_US">5.467487</value>
</dimResol>
</axisDimension>
<ptInPixel>
<PixOrientCd Sync="TRUE" value="001"/>
</ptInPixel>
</Georect>
</spatRepInfo>
<contInfo>
<ImgDesc>
<contentTyp>
<ContentTypCd Sync="TRUE" value="001"/>
</contentTyp>
<covDim>
<Band>
<dimDescrp Sync="TRUE">Band_1</dimDescrp>
<maxVal Sync="TRUE">255.000000</maxVal>
<minVal Sync="TRUE">0.000000</minVal>
<bitsPerVal Sync="TRUE">16</bitsPerVal>
<valUnit>
<UOM type="length"/>
</valUnit>
</Band>
<Band>
<dimDescrp Sync="TRUE">Band_2</dimDescrp>
<maxVal Sync="TRUE">255.000000</maxVal>
<minVal Sync="TRUE">0.000000</minVal>
<bitsPerVal Sync="TRUE">16</bitsPerVal>
<valUnit>
<UOM type="length"/>
</valUnit>
</Band>
<Band>
<dimDescrp Sync="TRUE">Band_3</dimDescrp>
<maxVal Sync="TRUE">255.000000</maxVal>
<minVal Sync="TRUE">0.000000</minVal>
<bitsPerVal Sync="TRUE">16</bitsPerVal>
<valUnit>
<UOM type="length"/>
</valUnit>
</Band>
</covDim>
</ImgDesc>
</contInfo>
<mdDateSt Sync="TRUE">20150103</mdDateSt>
</metadata>
