<?xml version="1.0" encoding="UTF-8" standalone="no"?>
<metadata xml:lang="en">
<Esri>
<CreaDate>20161007</CreaDate>
<CreaTime>09074900</CreaTime>
<ArcGISFormat>1.0</ArcGISFormat>
<SyncOnce>FALSE</SyncOnce>
<DataProperties>
<lineage>
<Process Date="20120214" Time="133015" ToolSource="C:\Program Files (x86)\ArcGIS\Desktop10.0\ArcToolbox\Toolboxes\Data Management Tools.tbx\ChangePrivileges">ChangePrivileges 'Database Connections\GIS_Production_DBA.sde\GIS_Production.GIS_DBA.Imagery_2008_Pictometry' carverco\all GRANT #</Process>
<Process Date="20120214" Time="133029" ToolSource="C:\Program Files (x86)\ArcGIS\Desktop10.0\ArcToolbox\Toolboxes\Data Management Tools.tbx\ChangePrivileges">ChangePrivileges 'Database Connections\GIS_Production_DBA.sde\GIS_Production.GIS_DBA.Imagery_2008_Pictometry' arcims GRANT #</Process>
<Process Date="20120214" Time="133103" ToolSource="C:\Program Files (x86)\ArcGIS\Desktop10.0\ArcToolbox\Toolboxes\Data Management Tools.tbx\ChangePrivileges">ChangePrivileges 'Database Connections\GIS_Production_DBA.sde\GIS_Production.GIS_DBA.Imagery_2008_Pictometry' GIS_Chaska_Viewer GRANT #</Process>
<Process Date="20150128" Time="130110" ToolSource="c:\program files\arcgis\desktop10.2\ArcToolbox\Toolboxes\Data Management Tools.tbx\UpgradeDataset">UpgradeDataset "Database Connections\GIS_Production_GIS_DBA.sde\GIS_Production.GIS_DBA.Imagery_2008_Pictometry"</Process>
<Process Date="20161007" Time="162203" ToolSource="c:\program files (x86)\arcgis\desktop10.4\ArcToolbox\Toolboxes\Data Management Tools.tbx\ChangePrivileges">ChangePrivileges \\ch_gis\gisdata\Tasks\Connections\Production\GIS_Production_12_Admin.sde\GIS_Production.GIS_PROD_ADMIN.Imagery_2000_MetCouncil;\\ch_gis\gisdata\Tasks\Connections\Production\GIS_Production_12_Admin.sde\GIS_Production.GIS_PROD_ADMIN.Imagery_2002_AerialExpress;\\ch_gis\gisdata\Tasks\Connections\Production\GIS_Production_12_Admin.sde\GIS_Production.GIS_PROD_ADMIN.Imagery_2005_AeroMetric;\\ch_gis\gisdata\Tasks\Connections\Production\GIS_Production_12_Admin.sde\GIS_Production.GIS_PROD_ADMIN.Imagery_2005_MetCouncilCIR;\\ch_gis\gisdata\Tasks\Connections\Production\GIS_Production_12_Admin.sde\GIS_Production.GIS_PROD_ADMIN.Imagery_2008_Pictometry;\\ch_gis\gisdata\Tasks\Connections\Production\GIS_Production_12_Admin.sde\GIS_Production.GIS_PROD_ADMIN.Imagery_2011_Pictometry;\\ch_gis\gisdata\Tasks\Connections\Production\GIS_Production_12_Admin.sde\GIS_Production.GIS_PROD_ADMIN.Imagery_2013_Aerometric;\\ch_gis\gisdata\Tasks\Connections\Production\GIS_Production_12_Admin.sde\GIS_Production.GIS_PROD_ADMIN.Imagery_2014_Pictometry carverco\all GRANT #</Process>
<Process Date="20161007" Time="162349" ToolSource="c:\program files (x86)\arcgis\desktop10.4\ArcToolbox\Toolboxes\Data Management Tools.tbx\ChangePrivileges">ChangePrivileges \\ch_gis\gisdata\Tasks\Connections\Production\GIS_Production_12_Admin.sde\GIS_Production.GIS_PROD_ADMIN.Imagery_2000_MetCouncil;\\ch_gis\gisdata\Tasks\Connections\Production\GIS_Production_12_Admin.sde\GIS_Production.GIS_PROD_ADMIN.Imagery_2002_AerialExpress;\\ch_gis\gisdata\Tasks\Connections\Production\GIS_Production_12_Admin.sde\GIS_Production.GIS_PROD_ADMIN.Imagery_2005_AeroMetric;\\ch_gis\gisdata\Tasks\Connections\Production\GIS_Production_12_Admin.sde\GIS_Production.GIS_PROD_ADMIN.Imagery_2005_MetCouncilCIR;\\ch_gis\gisdata\Tasks\Connections\Production\GIS_Production_12_Admin.sde\GIS_Production.GIS_PROD_ADMIN.Imagery_2008_Pictometry;\\ch_gis\gisdata\Tasks\Connections\Production\GIS_Production_12_Admin.sde\GIS_Production.GIS_PROD_ADMIN.Imagery_2011_Pictometry;\\ch_gis\gisdata\Tasks\Connections\Production\GIS_Production_12_Admin.sde\GIS_Production.GIS_PROD_ADMIN.Imagery_2013_Aerometric;\\ch_gis\gisdata\Tasks\Connections\Production\GIS_Production_12_Admin.sde\GIS_Production.GIS_PROD_ADMIN.Imagery_2014_Pictometry GIS_Prod_Web_Viewer GRANT #</Process>
<Process Date="20230331" Time="121825" ToolSource="e:\program files (x86)\arcgis\desktop10.8\ArcToolbox\Toolboxes\Data Management Tools.tbx\ChangePrivileges">ChangePrivileges \\ch_gis\gisdata\Tasks\Connections\Production\GIS_Production_Admin.sde\GIS_Production.GIS_PROD_ADMIN.Imagery_1969;\\ch_gis\gisdata\Tasks\Connections\Production\GIS_Production_Admin.sde\GIS_Production.GIS_PROD_ADMIN.Imagery_1979;\\ch_gis\gisdata\Tasks\Connections\Production\GIS_Production_Admin.sde\GIS_Production.GIS_PROD_ADMIN.Imagery_1991_USGS;\\ch_gis\gisdata\Tasks\Connections\Production\GIS_Production_Admin.sde\GIS_Production.GIS_PROD_ADMIN.Imagery_1997_MetCouncil;\\ch_gis\gisdata\Tasks\Connections\Production\GIS_Production_Admin.sde\GIS_Production.GIS_PROD_ADMIN.Imagery_2000_MetCouncil;\\ch_gis\gisdata\Tasks\Connections\Production\GIS_Production_Admin.sde\GIS_Production.GIS_PROD_ADMIN.Imagery_2002_AerialExpress;\\ch_gis\gisdata\Tasks\Connections\Production\GIS_Production_Admin.sde\GIS_Production.GIS_PROD_ADMIN.Imagery_2005_AeroMetric;\\ch_gis\gisdata\Tasks\Connections\Production\GIS_Production_Admin.sde\GIS_Production.GIS_PROD_ADMIN.Imagery_2005_MetCouncilCIR;\\ch_gis\gisdata\Tasks\Connections\Production\GIS_Production_Admin.sde\GIS_Production.GIS_PROD_ADMIN.Imagery_2008_Pictometry;\\ch_gis\gisdata\Tasks\Connections\Production\GIS_Production_Admin.sde\GIS_Production.GIS_PROD_ADMIN.Imagery_2011_Pictometry;\\ch_gis\gisdata\Tasks\Connections\Production\GIS_Production_Admin.sde\GIS_Production.GIS_PROD_ADMIN.Imagery_2013_Aerometric;\\ch_gis\gisdata\Tasks\Connections\Production\GIS_Production_Admin.sde\GIS_Production.GIS_PROD_ADMIN.Imagery_2014_Pictometry;\\ch_gis\gisdata\Tasks\Connections\Production\GIS_Production_Admin.sde\GIS_Production.GIS_PROD_ADMIN.Imagery_2016_Surdex;\\ch_gis\gisdata\Tasks\Connections\Production\GIS_Production_Admin.sde\GIS_Production.GIS_PROD_ADMIN.Imagery_2017_Pictometry;\\ch_gis\gisdata\Tasks\Connections\Production\GIS_Production_Admin.sde\GIS_Production.GIS_PROD_ADMIN.Imagery_2017_Pictometry_10_4;\\ch_gis\gisdata\Tasks\Connections\Production\GIS_Production_Admin.sde\GIS_Production.GIS_PROD_ADMIN.Imagery_2019_Ayres;\\ch_gis\gisdata\Tasks\Connections\Production\GIS_Production_Admin.sde\GIS_Production.GIS_PROD_ADMIN.Imagery_2019_Ayres_10_4;\\ch_gis\gisdata\Tasks\Connections\Production\GIS_Production_Admin.sde\GIS_Production.GIS_PROD_ADMIN.Imagery_2020_Pictometry;\\ch_gis\gisdata\Tasks\Connections\Production\GIS_Production_Admin.sde\GIS_Production.GIS_PROD_ADMIN.Imagery_2022_95West;\\ch_gis\gisdata\Tasks\Connections\Production\GIS_Production_Admin.sde\GIS_Production.GIS_PROD_ADMIN.Imagery_1969;\\ch_gis\gisdata\Tasks\Connections\Production\GIS_Production_Admin.sde\GIS_Production.GIS_PROD_ADMIN.Imagery_1979;\\ch_gis\gisdata\Tasks\Connections\Production\GIS_Production_Admin.sde\GIS_Production.GIS_PROD_ADMIN.Imagery_1991_USGS;\\ch_gis\gisdata\Tasks\Connections\Production\GIS_Production_Admin.sde\GIS_Production.GIS_PROD_ADMIN.Imagery_1997_MetCouncil;\\ch_gis\gisdata\Tasks\Connections\Production\GIS_Production_Admin.sde\GIS_Production.GIS_PROD_ADMIN.Imagery_2000_MetCouncil;\\ch_gis\gisdata\Tasks\Connections\Production\GIS_Production_Admin.sde\GIS_Production.GIS_PROD_ADMIN.Imagery_2002_AerialExpress;\\ch_gis\gisdata\Tasks\Connections\Production\GIS_Production_Admin.sde\GIS_Production.GIS_PROD_ADMIN.Imagery_2005_AeroMetric;\\ch_gis\gisdata\Tasks\Connections\Production\GIS_Production_Admin.sde\GIS_Production.GIS_PROD_ADMIN.Imagery_2005_MetCouncilCIR;\\ch_gis\gisdata\Tasks\Connections\Production\GIS_Production_Admin.sde\GIS_Production.GIS_PROD_ADMIN.Imagery_2008_Pictometry;\\ch_gis\gisdata\Tasks\Connections\Production\GIS_Production_Admin.sde\GIS_Production.GIS_PROD_ADMIN.Imagery_2011_Pictometry;\\ch_gis\gisdata\Tasks\Connections\Production\GIS_Production_Admin.sde\GIS_Production.GIS_PROD_ADMIN.Imagery_2013_Aerometric;\\ch_gis\gisdata\Tasks\Connections\Production\GIS_Production_Admin.sde\GIS_Production.GIS_PROD_ADMIN.Imagery_2014_Pictometry;\\ch_gis\gisdata\Tasks\Connections\Production\GIS_Production_Admin.sde\GIS_Production.GIS_PROD_ADMIN.Imagery_2016_Surdex;\\ch_gis\gisdata\Tasks\Connections\Production\GIS_Production_Admin.sde\GIS_Production.GIS_PROD_ADMIN.Imagery_2017_Pictometry;\\ch_gis\gisdata\Tasks\Connections\Production\GIS_Production_Admin.sde\GIS_Production.GIS_PROD_ADMIN.Imagery_2017_Pictometry_10_4;\\ch_gis\gisdata\Tasks\Connections\Production\GIS_Production_Admin.sde\GIS_Production.GIS_PROD_ADMIN.Imagery_2019_Ayres;\\ch_gis\gisdata\Tasks\Connections\Production\GIS_Production_Admin.sde\GIS_Production.GIS_PROD_ADMIN.Imagery_2019_Ayres_10_4;\\ch_gis\gisdata\Tasks\Connections\Production\GIS_Production_Admin.sde\GIS_Production.GIS_PROD_ADMIN.Imagery_2020_Pictometry;\\ch_gis\gisdata\Tasks\Connections\Production\GIS_Production_Admin.sde\GIS_Production.GIS_PROD_ADMIN.Imagery_2022_95West carverco\gis_g GRANT #</Process>
<Process Date="20230331" Time="121829" ToolSource="e:\program files (x86)\arcgis\desktop10.8\ArcToolbox\Toolboxes\Data Management Tools.tbx\ChangePrivileges">ChangePrivileges \\ch_gis\gisdata\Tasks\Connections\Production\GIS_Production_Admin.sde\GIS_Production.GIS_PROD_ADMIN.Imagery_1969;\\ch_gis\gisdata\Tasks\Connections\Production\GIS_Production_Admin.sde\GIS_Production.GIS_PROD_ADMIN.Imagery_1979;\\ch_gis\gisdata\Tasks\Connections\Production\GIS_Production_Admin.sde\GIS_Production.GIS_PROD_ADMIN.Imagery_1991_USGS;\\ch_gis\gisdata\Tasks\Connections\Production\GIS_Production_Admin.sde\GIS_Production.GIS_PROD_ADMIN.Imagery_1997_MetCouncil;\\ch_gis\gisdata\Tasks\Connections\Production\GIS_Production_Admin.sde\GIS_Production.GIS_PROD_ADMIN.Imagery_2000_MetCouncil;\\ch_gis\gisdata\Tasks\Connections\Production\GIS_Production_Admin.sde\GIS_Production.GIS_PROD_ADMIN.Imagery_2002_AerialExpress;\\ch_gis\gisdata\Tasks\Connections\Production\GIS_Production_Admin.sde\GIS_Production.GIS_PROD_ADMIN.Imagery_2005_AeroMetric;\\ch_gis\gisdata\Tasks\Connections\Production\GIS_Production_Admin.sde\GIS_Production.GIS_PROD_ADMIN.Imagery_2005_MetCouncilCIR;\\ch_gis\gisdata\Tasks\Connections\Production\GIS_Production_Admin.sde\GIS_Production.GIS_PROD_ADMIN.Imagery_2008_Pictometry;\\ch_gis\gisdata\Tasks\Connections\Production\GIS_Production_Admin.sde\GIS_Production.GIS_PROD_ADMIN.Imagery_2011_Pictometry;\\ch_gis\gisdata\Tasks\Connections\Production\GIS_Production_Admin.sde\GIS_Production.GIS_PROD_ADMIN.Imagery_2013_Aerometric;\\ch_gis\gisdata\Tasks\Connections\Production\GIS_Production_Admin.sde\GIS_Production.GIS_PROD_ADMIN.Imagery_2014_Pictometry;\\ch_gis\gisdata\Tasks\Connections\Production\GIS_Production_Admin.sde\GIS_Production.GIS_PROD_ADMIN.Imagery_2016_Surdex;\\ch_gis\gisdata\Tasks\Connections\Production\GIS_Production_Admin.sde\GIS_Production.GIS_PROD_ADMIN.Imagery_2017_Pictometry;\\ch_gis\gisdata\Tasks\Connections\Production\GIS_Production_Admin.sde\GIS_Production.GIS_PROD_ADMIN.Imagery_2017_Pictometry_10_4;\\ch_gis\gisdata\Tasks\Connections\Production\GIS_Production_Admin.sde\GIS_Production.GIS_PROD_ADMIN.Imagery_2019_Ayres;\\ch_gis\gisdata\Tasks\Connections\Production\GIS_Production_Admin.sde\GIS_Production.GIS_PROD_ADMIN.Imagery_2019_Ayres_10_4;\\ch_gis\gisdata\Tasks\Connections\Production\GIS_Production_Admin.sde\GIS_Production.GIS_PROD_ADMIN.Imagery_2020_Pictometry;\\ch_gis\gisdata\Tasks\Connections\Production\GIS_Production_Admin.sde\GIS_Production.GIS_PROD_ADMIN.Imagery_2022_95West;\\ch_gis\gisdata\Tasks\Connections\Production\GIS_Production_Admin.sde\GIS_Production.GIS_PROD_ADMIN.Imagery_1969;\\ch_gis\gisdata\Tasks\Connections\Production\GIS_Production_Admin.sde\GIS_Production.GIS_PROD_ADMIN.Imagery_1979;\\ch_gis\gisdata\Tasks\Connections\Production\GIS_Production_Admin.sde\GIS_Production.GIS_PROD_ADMIN.Imagery_1991_USGS;\\ch_gis\gisdata\Tasks\Connections\Production\GIS_Production_Admin.sde\GIS_Production.GIS_PROD_ADMIN.Imagery_1997_MetCouncil;\\ch_gis\gisdata\Tasks\Connections\Production\GIS_Production_Admin.sde\GIS_Production.GIS_PROD_ADMIN.Imagery_2000_MetCouncil;\\ch_gis\gisdata\Tasks\Connections\Production\GIS_Production_Admin.sde\GIS_Production.GIS_PROD_ADMIN.Imagery_2002_AerialExpress;\\ch_gis\gisdata\Tasks\Connections\Production\GIS_Production_Admin.sde\GIS_Production.GIS_PROD_ADMIN.Imagery_2005_AeroMetric;\\ch_gis\gisdata\Tasks\Connections\Production\GIS_Production_Admin.sde\GIS_Production.GIS_PROD_ADMIN.Imagery_2005_MetCouncilCIR;\\ch_gis\gisdata\Tasks\Connections\Production\GIS_Production_Admin.sde\GIS_Production.GIS_PROD_ADMIN.Imagery_2008_Pictometry;\\ch_gis\gisdata\Tasks\Connections\Production\GIS_Production_Admin.sde\GIS_Production.GIS_PROD_ADMIN.Imagery_2011_Pictometry;\\ch_gis\gisdata\Tasks\Connections\Production\GIS_Production_Admin.sde\GIS_Production.GIS_PROD_ADMIN.Imagery_2013_Aerometric;\\ch_gis\gisdata\Tasks\Connections\Production\GIS_Production_Admin.sde\GIS_Production.GIS_PROD_ADMIN.Imagery_2014_Pictometry;\\ch_gis\gisdata\Tasks\Connections\Production\GIS_Production_Admin.sde\GIS_Production.GIS_PROD_ADMIN.Imagery_2016_Surdex;\\ch_gis\gisdata\Tasks\Connections\Production\GIS_Production_Admin.sde\GIS_Production.GIS_PROD_ADMIN.Imagery_2017_Pictometry;\\ch_gis\gisdata\Tasks\Connections\Production\GIS_Production_Admin.sde\GIS_Production.GIS_PROD_ADMIN.Imagery_2017_Pictometry_10_4;\\ch_gis\gisdata\Tasks\Connections\Production\GIS_Production_Admin.sde\GIS_Production.GIS_PROD_ADMIN.Imagery_2019_Ayres;\\ch_gis\gisdata\Tasks\Connections\Production\GIS_Production_Admin.sde\GIS_Production.GIS_PROD_ADMIN.Imagery_2019_Ayres_10_4;\\ch_gis\gisdata\Tasks\Connections\Production\GIS_Production_Admin.sde\GIS_Production.GIS_PROD_ADMIN.Imagery_2020_Pictometry;\\ch_gis\gisdata\Tasks\Connections\Production\GIS_Production_Admin.sde\GIS_Production.GIS_PROD_ADMIN.Imagery_2022_95West carverco\gis_g GRANT #</Process>
<Process Date="20230331" Time="121847" ToolSource="e:\program files (x86)\arcgis\desktop10.8\ArcToolbox\Toolboxes\Data Management Tools.tbx\ChangePrivileges">ChangePrivileges \\ch_gis\gisdata\Tasks\Connections\Production\GIS_Production_Admin.sde\GIS_Production.GIS_PROD_ADMIN.Imagery_2008_Pictometry;\\ch_gis\gisdata\Tasks\Connections\Production\GIS_Production_Admin.sde\GIS_Production.GIS_PROD_ADMIN.Imagery_1979;\\ch_gis\gisdata\Tasks\Connections\Production\GIS_Production_Admin.sde\GIS_Production.GIS_PROD_ADMIN.Imagery_1991_USGS;\\ch_gis\gisdata\Tasks\Connections\Production\GIS_Production_Admin.sde\GIS_Production.GIS_PROD_ADMIN.Imagery_1997_MetCouncil;\\ch_gis\gisdata\Tasks\Connections\Production\GIS_Production_Admin.sde\GIS_Production.GIS_PROD_ADMIN.Imagery_2000_MetCouncil;\\ch_gis\gisdata\Tasks\Connections\Production\GIS_Production_Admin.sde\GIS_Production.GIS_PROD_ADMIN.Imagery_2002_AerialExpress;\\ch_gis\gisdata\Tasks\Connections\Production\GIS_Production_Admin.sde\GIS_Production.GIS_PROD_ADMIN.Imagery_2005_AeroMetric;\\ch_gis\gisdata\Tasks\Connections\Production\GIS_Production_Admin.sde\GIS_Production.GIS_PROD_ADMIN.Imagery_2005_MetCouncilCIR;\\ch_gis\gisdata\Tasks\Connections\Production\GIS_Production_Admin.sde\GIS_Production.GIS_PROD_ADMIN.Imagery_2011_Pictometry;\\ch_gis\gisdata\Tasks\Connections\Production\GIS_Production_Admin.sde\GIS_Production.GIS_PROD_ADMIN.Imagery_2013_Aerometric;\\ch_gis\gisdata\Tasks\Connections\Production\GIS_Production_Admin.sde\GIS_Production.GIS_PROD_ADMIN.Imagery_2014_Pictometry carverco\gis_g GRANT #</Process>
</lineage>
<itemProps>
<itemName Sync="TRUE">GIS_Production.GIS_DBA.Imagery_2008_Pictometry</itemName>
<itemLocation>
<linkage Sync="TRUE">Server=GISSQL; Service=sde:sqlserver:GISSQL; Database=GIS_Production; User=GIS_Prod_Admin; Version=sde.DEFAULT</linkage>
<protocol Sync="TRUE">ArcSDE Connection</protocol>
</itemLocation>
<nativeExtBox>
<westBL Sync="TRUE">431414.499916</westBL>
<eastBL Sync="TRUE">569667.499916</eastBL>
<southBL Sync="TRUE">94578.499940</southBL>
<northBL Sync="TRUE">227227.499940</northBL>
<exTypeCode Sync="TRUE">1</exTypeCode>
</nativeExtBox>
</itemProps>
<coordRef>
<type Sync="TRUE">Projected</type>
<geogcsn Sync="TRUE">GCS_NAD_1983_HARN_Adj_MN_Carver</geogcsn>
<csUnits Sync="TRUE">Linear Unit: Foot_US (0.304801)</csUnits>
<projcsn Sync="TRUE">NAD_1983_HARN_Adj_MN_Carver_Feet</projcsn>
<peXml Sync="TRUE">&lt;ProjectedCoordinateSystem xsi:type='typens:ProjectedCoordinateSystem' xmlns:xsi='http://www.w3.org/2001/XMLSchema-instance' xmlns:xs='http://www.w3.org/2001/XMLSchema' xmlns:typens='http://www.esri.com/schemas/ArcGIS/10.1'&gt;&lt;WKT&gt;PROJCS[&amp;quot;NAD_1983_HARN_Adj_MN_Carver_Feet&amp;quot;,GEOGCS[&amp;quot;GCS_NAD_1983_HARN_Adj_MN_Carver&amp;quot;,DATUM[&amp;quot;D_NAD_1983_HARN_Adj_MN_Carver&amp;quot;,SPHEROID[&amp;quot;S_GRS_1980_Adj_MN_Carver&amp;quot;,6378400.653,298.2572221008827]],PRIMEM[&amp;quot;Greenwich&amp;quot;,0.0],UNIT[&amp;quot;Degree&amp;quot;,0.0174532925199433]],PROJECTION[&amp;quot;Lambert_Conformal_Conic&amp;quot;],PARAMETER[&amp;quot;False_Easting&amp;quot;,500000.0],PARAMETER[&amp;quot;False_Northing&amp;quot;,100000.0],PARAMETER[&amp;quot;Central_Meridian&amp;quot;,-93.76666666666667],PARAMETER[&amp;quot;Standard_Parallel_1&amp;quot;,44.68333333333333],PARAMETER[&amp;quot;Standard_Parallel_2&amp;quot;,44.9],PARAMETER[&amp;quot;Latitude_Of_Origin&amp;quot;,44.63972222222222],UNIT[&amp;quot;Foot_US&amp;quot;,0.3048006096012192],AUTHORITY[&amp;quot;ESRI&amp;quot;,103717]]&lt;/WKT&gt;&lt;XOrigin&gt;-119161400&lt;/XOrigin&gt;&lt;YOrigin&gt;-98391700&lt;/YOrigin&gt;&lt;XYScale&gt;37636193.687943608&lt;/XYScale&gt;&lt;ZOrigin&gt;-100000&lt;/ZOrigin&gt;&lt;ZScale&gt;10000&lt;/ZScale&gt;&lt;MOrigin&gt;-100000&lt;/MOrigin&gt;&lt;MScale&gt;10000&lt;/MScale&gt;&lt;XYTolerance&gt;0.0032808333333333331&lt;/XYTolerance&gt;&lt;ZTolerance&gt;0.001&lt;/ZTolerance&gt;&lt;MTolerance&gt;0.001&lt;/MTolerance&gt;&lt;HighPrecision&gt;true&lt;/HighPrecision&gt;&lt;WKID&gt;103717&lt;/WKID&gt;&lt;LatestWKID&gt;103717&lt;/LatestWKID&gt;&lt;/ProjectedCoordinateSystem&gt;</peXml>
</coordRef>
<RasterProperties>
<General>
<PixelDepth Sync="TRUE">8</PixelDepth>
<HasColormap Sync="TRUE">FALSE</HasColormap>
<CompressionType Sync="TRUE">None</CompressionType>
<NumBands Sync="TRUE">3</NumBands>
<Format Sync="TRUE">AMD</Format>
<HasPyramids Sync="TRUE">TRUE</HasPyramids>
<SourceType Sync="TRUE">continuous</SourceType>
<PixelType Sync="TRUE">unsigned integer</PixelType>
<NoDataValue Sync="TRUE"/>
</General>
<Properties>
<MaxImageHeight Sync="TRUE">4100</MaxImageHeight>
<MaxImageWidth Sync="TRUE">15000</MaxImageWidth>
<MaxRecordCount Sync="TRUE">1000</MaxRecordCount>
<MaxDownloadImageCount Sync="TRUE">20</MaxDownloadImageCount>
<MaxMosaicImageCount Sync="TRUE">20</MaxMosaicImageCount>
<DefaultCompressionQuality Sync="TRUE">75</DefaultCompressionQuality>
<ViewpointSpacingX Sync="TRUE">600</ViewpointSpacingX>
<ViewpointSpacingY Sync="TRUE">300</ViewpointSpacingY>
<AllowedItemMetadata Sync="TRUE">Full</AllowedItemMetadata>
<DefaultResamplingMethod Sync="TRUE">1</DefaultResamplingMethod>
<AllowedMosaicMethods Sync="TRUE">Center,NorthWest,LockRaster,ByAttribute,Nadir,Viewpoint,Seamline,None</AllowedMosaicMethods>
<AllowedCompressions Sync="TRUE">None,JPEG,LZ77</AllowedCompressions>
<AvailableMosaicMethods Sync="TRUE">NorthWest,Center,LockRaster,ByAttribute,Nadir,Viewpoint,Seamline,None</AvailableMosaicMethods>
<AvailableCompressionMethods Sync="TRUE">None,JPEG,LZ77,LERC</AvailableCompressionMethods>
<AvailableItemMetadataLevels Sync="TRUE">None,Basic,Full</AvailableItemMetadataLevels>
<ConfigKeyword Sync="TRUE"/>
<AllowedFields Sync="TRUE">Name,MinPS,MaxPS,LowPS,HighPS,Tag,GroupName,ProductName,CenterX,CenterY,ZOrder,SOrder,StereoID,Shape.area,Shape.len</AllowedFields>
</Properties>
<Functions Sync="TRUE">
<Function Description="Perform on-the-fly mosaic on a raster catalog." Name="Mosaic Function"/>
</Functions>
</RasterProperties>
</DataProperties>
<SyncDate>20150102</SyncDate>
<SyncTime>11281000</SyncTime>
<ModDate>20150102</ModDate>
<ModTime>11281000</ModTime>
</Esri>
<dataIdInfo>
<envirDesc Sync="TRUE">Microsoft Windows Server 2008 R2 Version 6.1 (Build 7601) Service Pack 1; Esri ArcGIS 10.2.0.3370</envirDesc>
<dataLang>
<languageCode Sync="TRUE" value="eng"/>
<countryCode Sync="TRUE" value="USA"/>
</dataLang>
<idCitation>
<resTitle Sync="TRUE">CC_Imagery_2008</resTitle>
<presForm>
<PresFormCd Sync="TRUE" value="005"/>
</presForm>
</idCitation>
<spatRpType>
<SpatRepTypCd Sync="TRUE" value="002"/>
</spatRpType>
<dataExt>
<geoEle>
<GeoBndBox esriExtentType="search">
<exTypeCode Sync="TRUE">1</exTypeCode>
<westBL Sync="TRUE">-94.031734</westBL>
<eastBL Sync="TRUE">-93.497417</eastBL>
<northBL Sync="TRUE">44.988666</northBL>
<southBL Sync="TRUE">44.624538</southBL>
</GeoBndBox>
</geoEle>
</dataExt>
<idAbs/>
<searchKeys>
<keyword>Imagery</keyword>
</searchKeys>
<idPurp>CC_Imagery_2008</idPurp>
<idCredit/>
<resConst>
<Consts>
<useLimit/>
</Consts>
</resConst>
</dataIdInfo>
<mdLang>
<languageCode Sync="TRUE" value="eng"/>
<countryCode Sync="TRUE" value="USA"/>
</mdLang>
<refSysInfo>
<RefSystem>
<refSysID>
<identCode Sync="TRUE" code="103717" value="103717"/>
<idCodeSpace Sync="TRUE">ESRI</idCodeSpace>
<idVersion Sync="TRUE">10.2.0</idVersion>
</refSysID>
</RefSystem>
</refSysInfo>
<spatRepInfo>
<Georect>
<cellGeo>
<CellGeoCd Sync="TRUE" value="002"/>
</cellGeo>
<numDims Sync="TRUE">2</numDims>
<tranParaAv Sync="TRUE">1</tranParaAv>
<chkPtAv Sync="TRUE">0</chkPtAv>
<cornerPts>
<pos Sync="TRUE">431414.499916 94578.499940</pos>
</cornerPts>
<cornerPts>
<pos Sync="TRUE">431414.499916 227227.499940</pos>
</cornerPts>
<cornerPts>
<pos Sync="TRUE">569667.499916 227227.499940</pos>
</cornerPts>
<cornerPts>
<pos Sync="TRUE">569667.499916 94578.499940</pos>
</cornerPts>
<centerPt>
<pos Sync="TRUE">500540.999916 160902.999940</pos>
</centerPt>
<axisDimension type="002">
<dimSize Sync="TRUE">276506</dimSize>
<dimResol>
<value Sync="TRUE" uom="Foot_US">0.500000</value>
</dimResol>
</axisDimension>
<axisDimension type="001">
<dimSize Sync="TRUE">265298</dimSize>
<dimResol>
<value Sync="TRUE" uom="Foot_US">0.500000</value>
</dimResol>
</axisDimension>
<ptInPixel>
<PixOrientCd Sync="TRUE" value="001"/>
</ptInPixel>
</Georect>
</spatRepInfo>
<contInfo>
<ImgDesc>
<contentTyp>
<ContentTypCd Sync="TRUE" value="001"/>
</contentTyp>
<covDim>
<Band>
<dimDescrp Sync="TRUE">Band_1</dimDescrp>
<maxVal Sync="TRUE">255.000000</maxVal>
<minVal Sync="TRUE">0.000000</minVal>
<bitsPerVal Sync="TRUE">8</bitsPerVal>
<valUnit>
<UOM type="length">
<unitSymbol Sync="TRUE">Foot_US</unitSymbol>
</UOM>
</valUnit>
</Band>
<Band>
<dimDescrp Sync="TRUE">Band_2</dimDescrp>
<maxVal Sync="TRUE">255.000000</maxVal>
<minVal Sync="TRUE">0.000000</minVal>
<bitsPerVal Sync="TRUE">8</bitsPerVal>
<valUnit>
<UOM type="length">
<unitSymbol Sync="TRUE">Foot_US</unitSymbol>
</UOM>
</valUnit>
</Band>
<Band>
<dimDescrp Sync="TRUE">Band_3</dimDescrp>
<maxVal Sync="TRUE">255.000000</maxVal>
<minVal Sync="TRUE">0.000000</minVal>
<bitsPerVal Sync="TRUE">8</bitsPerVal>
<valUnit>
<UOM type="length">
<unitSymbol Sync="TRUE">Foot_US</unitSymbol>
</UOM>
</valUnit>
</Band>
</covDim>
</ImgDesc>
</contInfo>
<mdDateSt Sync="TRUE">20150102</mdDateSt>
</metadata>
