<?xml version="1.0" encoding="UTF-8" standalone="no"?>
<metadata xml:lang="en">
<Esri>
<CreaDate>20161007</CreaDate>
<CreaTime>09180300</CreaTime>
<ArcGISFormat>1.0</ArcGISFormat>
<SyncOnce>FALSE</SyncOnce>
<DataProperties>
<lineage>
<Process Date="20150128" Time="130147" ToolSource="c:\program files\arcgis\desktop10.2\ArcToolbox\Toolboxes\Data Management Tools.tbx\UpgradeDataset">UpgradeDataset "Database Connections\GIS_Production_GIS_DBA.sde\GIS_Production.GIS_DBA.Imagery_2014_Pictometry"</Process>
<Process Date="20161007" Time="162204" ToolSource="c:\program files (x86)\arcgis\desktop10.4\ArcToolbox\Toolboxes\Data Management Tools.tbx\ChangePrivileges">ChangePrivileges \\ch_gis\gisdata\Tasks\Connections\Production\GIS_Production_12_Admin.sde\GIS_Production.GIS_PROD_ADMIN.Imagery_2000_MetCouncil;\\ch_gis\gisdata\Tasks\Connections\Production\GIS_Production_12_Admin.sde\GIS_Production.GIS_PROD_ADMIN.Imagery_2002_AerialExpress;\\ch_gis\gisdata\Tasks\Connections\Production\GIS_Production_12_Admin.sde\GIS_Production.GIS_PROD_ADMIN.Imagery_2005_AeroMetric;\\ch_gis\gisdata\Tasks\Connections\Production\GIS_Production_12_Admin.sde\GIS_Production.GIS_PROD_ADMIN.Imagery_2005_MetCouncilCIR;\\ch_gis\gisdata\Tasks\Connections\Production\GIS_Production_12_Admin.sde\GIS_Production.GIS_PROD_ADMIN.Imagery_2008_Pictometry;\\ch_gis\gisdata\Tasks\Connections\Production\GIS_Production_12_Admin.sde\GIS_Production.GIS_PROD_ADMIN.Imagery_2011_Pictometry;\\ch_gis\gisdata\Tasks\Connections\Production\GIS_Production_12_Admin.sde\GIS_Production.GIS_PROD_ADMIN.Imagery_2013_Aerometric;\\ch_gis\gisdata\Tasks\Connections\Production\GIS_Production_12_Admin.sde\GIS_Production.GIS_PROD_ADMIN.Imagery_2014_Pictometry carverco\all GRANT #</Process>
<Process Date="20161007" Time="162350" ToolSource="c:\program files (x86)\arcgis\desktop10.4\ArcToolbox\Toolboxes\Data Management Tools.tbx\ChangePrivileges">ChangePrivileges \\ch_gis\gisdata\Tasks\Connections\Production\GIS_Production_12_Admin.sde\GIS_Production.GIS_PROD_ADMIN.Imagery_2000_MetCouncil;\\ch_gis\gisdata\Tasks\Connections\Production\GIS_Production_12_Admin.sde\GIS_Production.GIS_PROD_ADMIN.Imagery_2002_AerialExpress;\\ch_gis\gisdata\Tasks\Connections\Production\GIS_Production_12_Admin.sde\GIS_Production.GIS_PROD_ADMIN.Imagery_2005_AeroMetric;\\ch_gis\gisdata\Tasks\Connections\Production\GIS_Production_12_Admin.sde\GIS_Production.GIS_PROD_ADMIN.Imagery_2005_MetCouncilCIR;\\ch_gis\gisdata\Tasks\Connections\Production\GIS_Production_12_Admin.sde\GIS_Production.GIS_PROD_ADMIN.Imagery_2008_Pictometry;\\ch_gis\gisdata\Tasks\Connections\Production\GIS_Production_12_Admin.sde\GIS_Production.GIS_PROD_ADMIN.Imagery_2011_Pictometry;\\ch_gis\gisdata\Tasks\Connections\Production\GIS_Production_12_Admin.sde\GIS_Production.GIS_PROD_ADMIN.Imagery_2013_Aerometric;\\ch_gis\gisdata\Tasks\Connections\Production\GIS_Production_12_Admin.sde\GIS_Production.GIS_PROD_ADMIN.Imagery_2014_Pictometry GIS_Prod_Web_Viewer GRANT #</Process>
<Process Date="20230331" Time="121826" ToolSource="e:\program files (x86)\arcgis\desktop10.8\ArcToolbox\Toolboxes\Data Management Tools.tbx\ChangePrivileges">ChangePrivileges \\ch_gis\gisdata\Tasks\Connections\Production\GIS_Production_Admin.sde\GIS_Production.GIS_PROD_ADMIN.Imagery_1969;\\ch_gis\gisdata\Tasks\Connections\Production\GIS_Production_Admin.sde\GIS_Production.GIS_PROD_ADMIN.Imagery_1979;\\ch_gis\gisdata\Tasks\Connections\Production\GIS_Production_Admin.sde\GIS_Production.GIS_PROD_ADMIN.Imagery_1991_USGS;\\ch_gis\gisdata\Tasks\Connections\Production\GIS_Production_Admin.sde\GIS_Production.GIS_PROD_ADMIN.Imagery_1997_MetCouncil;\\ch_gis\gisdata\Tasks\Connections\Production\GIS_Production_Admin.sde\GIS_Production.GIS_PROD_ADMIN.Imagery_2000_MetCouncil;\\ch_gis\gisdata\Tasks\Connections\Production\GIS_Production_Admin.sde\GIS_Production.GIS_PROD_ADMIN.Imagery_2002_AerialExpress;\\ch_gis\gisdata\Tasks\Connections\Production\GIS_Production_Admin.sde\GIS_Production.GIS_PROD_ADMIN.Imagery_2005_AeroMetric;\\ch_gis\gisdata\Tasks\Connections\Production\GIS_Production_Admin.sde\GIS_Production.GIS_PROD_ADMIN.Imagery_2005_MetCouncilCIR;\\ch_gis\gisdata\Tasks\Connections\Production\GIS_Production_Admin.sde\GIS_Production.GIS_PROD_ADMIN.Imagery_2008_Pictometry;\\ch_gis\gisdata\Tasks\Connections\Production\GIS_Production_Admin.sde\GIS_Production.GIS_PROD_ADMIN.Imagery_2011_Pictometry;\\ch_gis\gisdata\Tasks\Connections\Production\GIS_Production_Admin.sde\GIS_Production.GIS_PROD_ADMIN.Imagery_2013_Aerometric;\\ch_gis\gisdata\Tasks\Connections\Production\GIS_Production_Admin.sde\GIS_Production.GIS_PROD_ADMIN.Imagery_2014_Pictometry;\\ch_gis\gisdata\Tasks\Connections\Production\GIS_Production_Admin.sde\GIS_Production.GIS_PROD_ADMIN.Imagery_2016_Surdex;\\ch_gis\gisdata\Tasks\Connections\Production\GIS_Production_Admin.sde\GIS_Production.GIS_PROD_ADMIN.Imagery_2017_Pictometry;\\ch_gis\gisdata\Tasks\Connections\Production\GIS_Production_Admin.sde\GIS_Production.GIS_PROD_ADMIN.Imagery_2017_Pictometry_10_4;\\ch_gis\gisdata\Tasks\Connections\Production\GIS_Production_Admin.sde\GIS_Production.GIS_PROD_ADMIN.Imagery_2019_Ayres;\\ch_gis\gisdata\Tasks\Connections\Production\GIS_Production_Admin.sde\GIS_Production.GIS_PROD_ADMIN.Imagery_2019_Ayres_10_4;\\ch_gis\gisdata\Tasks\Connections\Production\GIS_Production_Admin.sde\GIS_Production.GIS_PROD_ADMIN.Imagery_2020_Pictometry;\\ch_gis\gisdata\Tasks\Connections\Production\GIS_Production_Admin.sde\GIS_Production.GIS_PROD_ADMIN.Imagery_2022_95West;\\ch_gis\gisdata\Tasks\Connections\Production\GIS_Production_Admin.sde\GIS_Production.GIS_PROD_ADMIN.Imagery_1969;\\ch_gis\gisdata\Tasks\Connections\Production\GIS_Production_Admin.sde\GIS_Production.GIS_PROD_ADMIN.Imagery_1979;\\ch_gis\gisdata\Tasks\Connections\Production\GIS_Production_Admin.sde\GIS_Production.GIS_PROD_ADMIN.Imagery_1991_USGS;\\ch_gis\gisdata\Tasks\Connections\Production\GIS_Production_Admin.sde\GIS_Production.GIS_PROD_ADMIN.Imagery_1997_MetCouncil;\\ch_gis\gisdata\Tasks\Connections\Production\GIS_Production_Admin.sde\GIS_Production.GIS_PROD_ADMIN.Imagery_2000_MetCouncil;\\ch_gis\gisdata\Tasks\Connections\Production\GIS_Production_Admin.sde\GIS_Production.GIS_PROD_ADMIN.Imagery_2002_AerialExpress;\\ch_gis\gisdata\Tasks\Connections\Production\GIS_Production_Admin.sde\GIS_Production.GIS_PROD_ADMIN.Imagery_2005_AeroMetric;\\ch_gis\gisdata\Tasks\Connections\Production\GIS_Production_Admin.sde\GIS_Production.GIS_PROD_ADMIN.Imagery_2005_MetCouncilCIR;\\ch_gis\gisdata\Tasks\Connections\Production\GIS_Production_Admin.sde\GIS_Production.GIS_PROD_ADMIN.Imagery_2008_Pictometry;\\ch_gis\gisdata\Tasks\Connections\Production\GIS_Production_Admin.sde\GIS_Production.GIS_PROD_ADMIN.Imagery_2011_Pictometry;\\ch_gis\gisdata\Tasks\Connections\Production\GIS_Production_Admin.sde\GIS_Production.GIS_PROD_ADMIN.Imagery_2013_Aerometric;\\ch_gis\gisdata\Tasks\Connections\Production\GIS_Production_Admin.sde\GIS_Production.GIS_PROD_ADMIN.Imagery_2014_Pictometry;\\ch_gis\gisdata\Tasks\Connections\Production\GIS_Production_Admin.sde\GIS_Production.GIS_PROD_ADMIN.Imagery_2016_Surdex;\\ch_gis\gisdata\Tasks\Connections\Production\GIS_Production_Admin.sde\GIS_Production.GIS_PROD_ADMIN.Imagery_2017_Pictometry;\\ch_gis\gisdata\Tasks\Connections\Production\GIS_Production_Admin.sde\GIS_Production.GIS_PROD_ADMIN.Imagery_2017_Pictometry_10_4;\\ch_gis\gisdata\Tasks\Connections\Production\GIS_Production_Admin.sde\GIS_Production.GIS_PROD_ADMIN.Imagery_2019_Ayres;\\ch_gis\gisdata\Tasks\Connections\Production\GIS_Production_Admin.sde\GIS_Production.GIS_PROD_ADMIN.Imagery_2019_Ayres_10_4;\\ch_gis\gisdata\Tasks\Connections\Production\GIS_Production_Admin.sde\GIS_Production.GIS_PROD_ADMIN.Imagery_2020_Pictometry;\\ch_gis\gisdata\Tasks\Connections\Production\GIS_Production_Admin.sde\GIS_Production.GIS_PROD_ADMIN.Imagery_2022_95West carverco\gis_g GRANT #</Process>
<Process Date="20230331" Time="121830" ToolSource="e:\program files (x86)\arcgis\desktop10.8\ArcToolbox\Toolboxes\Data Management Tools.tbx\ChangePrivileges">ChangePrivileges \\ch_gis\gisdata\Tasks\Connections\Production\GIS_Production_Admin.sde\GIS_Production.GIS_PROD_ADMIN.Imagery_1969;\\ch_gis\gisdata\Tasks\Connections\Production\GIS_Production_Admin.sde\GIS_Production.GIS_PROD_ADMIN.Imagery_1979;\\ch_gis\gisdata\Tasks\Connections\Production\GIS_Production_Admin.sde\GIS_Production.GIS_PROD_ADMIN.Imagery_1991_USGS;\\ch_gis\gisdata\Tasks\Connections\Production\GIS_Production_Admin.sde\GIS_Production.GIS_PROD_ADMIN.Imagery_1997_MetCouncil;\\ch_gis\gisdata\Tasks\Connections\Production\GIS_Production_Admin.sde\GIS_Production.GIS_PROD_ADMIN.Imagery_2000_MetCouncil;\\ch_gis\gisdata\Tasks\Connections\Production\GIS_Production_Admin.sde\GIS_Production.GIS_PROD_ADMIN.Imagery_2002_AerialExpress;\\ch_gis\gisdata\Tasks\Connections\Production\GIS_Production_Admin.sde\GIS_Production.GIS_PROD_ADMIN.Imagery_2005_AeroMetric;\\ch_gis\gisdata\Tasks\Connections\Production\GIS_Production_Admin.sde\GIS_Production.GIS_PROD_ADMIN.Imagery_2005_MetCouncilCIR;\\ch_gis\gisdata\Tasks\Connections\Production\GIS_Production_Admin.sde\GIS_Production.GIS_PROD_ADMIN.Imagery_2008_Pictometry;\\ch_gis\gisdata\Tasks\Connections\Production\GIS_Production_Admin.sde\GIS_Production.GIS_PROD_ADMIN.Imagery_2011_Pictometry;\\ch_gis\gisdata\Tasks\Connections\Production\GIS_Production_Admin.sde\GIS_Production.GIS_PROD_ADMIN.Imagery_2013_Aerometric;\\ch_gis\gisdata\Tasks\Connections\Production\GIS_Production_Admin.sde\GIS_Production.GIS_PROD_ADMIN.Imagery_2014_Pictometry;\\ch_gis\gisdata\Tasks\Connections\Production\GIS_Production_Admin.sde\GIS_Production.GIS_PROD_ADMIN.Imagery_2016_Surdex;\\ch_gis\gisdata\Tasks\Connections\Production\GIS_Production_Admin.sde\GIS_Production.GIS_PROD_ADMIN.Imagery_2017_Pictometry;\\ch_gis\gisdata\Tasks\Connections\Production\GIS_Production_Admin.sde\GIS_Production.GIS_PROD_ADMIN.Imagery_2017_Pictometry_10_4;\\ch_gis\gisdata\Tasks\Connections\Production\GIS_Production_Admin.sde\GIS_Production.GIS_PROD_ADMIN.Imagery_2019_Ayres;\\ch_gis\gisdata\Tasks\Connections\Production\GIS_Production_Admin.sde\GIS_Production.GIS_PROD_ADMIN.Imagery_2019_Ayres_10_4;\\ch_gis\gisdata\Tasks\Connections\Production\GIS_Production_Admin.sde\GIS_Production.GIS_PROD_ADMIN.Imagery_2020_Pictometry;\\ch_gis\gisdata\Tasks\Connections\Production\GIS_Production_Admin.sde\GIS_Production.GIS_PROD_ADMIN.Imagery_2022_95West;\\ch_gis\gisdata\Tasks\Connections\Production\GIS_Production_Admin.sde\GIS_Production.GIS_PROD_ADMIN.Imagery_1969;\\ch_gis\gisdata\Tasks\Connections\Production\GIS_Production_Admin.sde\GIS_Production.GIS_PROD_ADMIN.Imagery_1979;\\ch_gis\gisdata\Tasks\Connections\Production\GIS_Production_Admin.sde\GIS_Production.GIS_PROD_ADMIN.Imagery_1991_USGS;\\ch_gis\gisdata\Tasks\Connections\Production\GIS_Production_Admin.sde\GIS_Production.GIS_PROD_ADMIN.Imagery_1997_MetCouncil;\\ch_gis\gisdata\Tasks\Connections\Production\GIS_Production_Admin.sde\GIS_Production.GIS_PROD_ADMIN.Imagery_2000_MetCouncil;\\ch_gis\gisdata\Tasks\Connections\Production\GIS_Production_Admin.sde\GIS_Production.GIS_PROD_ADMIN.Imagery_2002_AerialExpress;\\ch_gis\gisdata\Tasks\Connections\Production\GIS_Production_Admin.sde\GIS_Production.GIS_PROD_ADMIN.Imagery_2005_AeroMetric;\\ch_gis\gisdata\Tasks\Connections\Production\GIS_Production_Admin.sde\GIS_Production.GIS_PROD_ADMIN.Imagery_2005_MetCouncilCIR;\\ch_gis\gisdata\Tasks\Connections\Production\GIS_Production_Admin.sde\GIS_Production.GIS_PROD_ADMIN.Imagery_2008_Pictometry;\\ch_gis\gisdata\Tasks\Connections\Production\GIS_Production_Admin.sde\GIS_Production.GIS_PROD_ADMIN.Imagery_2011_Pictometry;\\ch_gis\gisdata\Tasks\Connections\Production\GIS_Production_Admin.sde\GIS_Production.GIS_PROD_ADMIN.Imagery_2013_Aerometric;\\ch_gis\gisdata\Tasks\Connections\Production\GIS_Production_Admin.sde\GIS_Production.GIS_PROD_ADMIN.Imagery_2014_Pictometry;\\ch_gis\gisdata\Tasks\Connections\Production\GIS_Production_Admin.sde\GIS_Production.GIS_PROD_ADMIN.Imagery_2016_Surdex;\\ch_gis\gisdata\Tasks\Connections\Production\GIS_Production_Admin.sde\GIS_Production.GIS_PROD_ADMIN.Imagery_2017_Pictometry;\\ch_gis\gisdata\Tasks\Connections\Production\GIS_Production_Admin.sde\GIS_Production.GIS_PROD_ADMIN.Imagery_2017_Pictometry_10_4;\\ch_gis\gisdata\Tasks\Connections\Production\GIS_Production_Admin.sde\GIS_Production.GIS_PROD_ADMIN.Imagery_2019_Ayres;\\ch_gis\gisdata\Tasks\Connections\Production\GIS_Production_Admin.sde\GIS_Production.GIS_PROD_ADMIN.Imagery_2019_Ayres_10_4;\\ch_gis\gisdata\Tasks\Connections\Production\GIS_Production_Admin.sde\GIS_Production.GIS_PROD_ADMIN.Imagery_2020_Pictometry;\\ch_gis\gisdata\Tasks\Connections\Production\GIS_Production_Admin.sde\GIS_Production.GIS_PROD_ADMIN.Imagery_2022_95West carverco\gis_g GRANT #</Process>
<Process Date="20230331" Time="121848" ToolSource="e:\program files (x86)\arcgis\desktop10.8\ArcToolbox\Toolboxes\Data Management Tools.tbx\ChangePrivileges">ChangePrivileges \\ch_gis\gisdata\Tasks\Connections\Production\GIS_Production_Admin.sde\GIS_Production.GIS_PROD_ADMIN.Imagery_2008_Pictometry;\\ch_gis\gisdata\Tasks\Connections\Production\GIS_Production_Admin.sde\GIS_Production.GIS_PROD_ADMIN.Imagery_1979;\\ch_gis\gisdata\Tasks\Connections\Production\GIS_Production_Admin.sde\GIS_Production.GIS_PROD_ADMIN.Imagery_1991_USGS;\\ch_gis\gisdata\Tasks\Connections\Production\GIS_Production_Admin.sde\GIS_Production.GIS_PROD_ADMIN.Imagery_1997_MetCouncil;\\ch_gis\gisdata\Tasks\Connections\Production\GIS_Production_Admin.sde\GIS_Production.GIS_PROD_ADMIN.Imagery_2000_MetCouncil;\\ch_gis\gisdata\Tasks\Connections\Production\GIS_Production_Admin.sde\GIS_Production.GIS_PROD_ADMIN.Imagery_2002_AerialExpress;\\ch_gis\gisdata\Tasks\Connections\Production\GIS_Production_Admin.sde\GIS_Production.GIS_PROD_ADMIN.Imagery_2005_AeroMetric;\\ch_gis\gisdata\Tasks\Connections\Production\GIS_Production_Admin.sde\GIS_Production.GIS_PROD_ADMIN.Imagery_2005_MetCouncilCIR;\\ch_gis\gisdata\Tasks\Connections\Production\GIS_Production_Admin.sde\GIS_Production.GIS_PROD_ADMIN.Imagery_2011_Pictometry;\\ch_gis\gisdata\Tasks\Connections\Production\GIS_Production_Admin.sde\GIS_Production.GIS_PROD_ADMIN.Imagery_2013_Aerometric;\\ch_gis\gisdata\Tasks\Connections\Production\GIS_Production_Admin.sde\GIS_Production.GIS_PROD_ADMIN.Imagery_2014_Pictometry carverco\gis_g GRANT #</Process>
</lineage>
<itemProps>
<itemName Sync="TRUE">GIS_Production.GIS_PROD_ADMIN.Imagery_2014_Pictometry</itemName>
<itemLocation>
<protocol Sync="TRUE">ArcSDE Connection</protocol>
<linkage Sync="TRUE">Server=GISSQL; Service=sde:sqlserver:GISSQL; Database=GIS_Production; User=GIS_Prod_Admin; Version=sde.DEFAULT</linkage>
</itemLocation>
<nativeExtBox>
<westBL Sync="TRUE">418686.919484</westBL>
<eastBL Sync="TRUE">459740.664429</eastBL>
<southBL Sync="TRUE">4942645.619965</southBL>
<northBL Sync="TRUE">4981511.201417</northBL>
<exTypeCode Sync="TRUE">1</exTypeCode>
</nativeExtBox>
</itemProps>
<coordRef>
<type Sync="TRUE">Projected</type>
<geogcsn Sync="TRUE">GCS_North_American_1983</geogcsn>
<csUnits Sync="TRUE">Linear Unit: Meter (1.000000)</csUnits>
<projcsn Sync="TRUE">NAD_1983_UTM_Zone_15N</projcsn>
<peXml Sync="TRUE">&lt;ProjectedCoordinateSystem xsi:type='typens:ProjectedCoordinateSystem' xmlns:xsi='http://www.w3.org/2001/XMLSchema-instance' xmlns:xs='http://www.w3.org/2001/XMLSchema' xmlns:typens='http://www.esri.com/schemas/ArcGIS/10.4'&gt;&lt;WKT&gt;PROJCS[&amp;quot;NAD_1983_UTM_Zone_15N&amp;quot;,GEOGCS[&amp;quot;GCS_North_American_1983&amp;quot;,DATUM[&amp;quot;D_North_American_1983&amp;quot;,SPHEROID[&amp;quot;GRS_1980&amp;quot;,6378137.0,298.257222101]],PRIMEM[&amp;quot;Greenwich&amp;quot;,0.0],UNIT[&amp;quot;Degree&amp;quot;,0.0174532925199433]],PROJECTION[&amp;quot;Transverse_Mercator&amp;quot;],PARAMETER[&amp;quot;False_Easting&amp;quot;,500000.0],PARAMETER[&amp;quot;False_Northing&amp;quot;,0.0],PARAMETER[&amp;quot;Central_Meridian&amp;quot;,-93.0],PARAMETER[&amp;quot;Scale_Factor&amp;quot;,0.9996],PARAMETER[&amp;quot;Latitude_Of_Origin&amp;quot;,0.0],UNIT[&amp;quot;Meter&amp;quot;,1.0],AUTHORITY[&amp;quot;EPSG&amp;quot;,26915]]&lt;/WKT&gt;&lt;XOrigin&gt;-5120900&lt;/XOrigin&gt;&lt;YOrigin&gt;-9998100&lt;/YOrigin&gt;&lt;XYScale&gt;450445547.3910538&lt;/XYScale&gt;&lt;ZOrigin&gt;-100000&lt;/ZOrigin&gt;&lt;ZScale&gt;10000&lt;/ZScale&gt;&lt;MOrigin&gt;-100000&lt;/MOrigin&gt;&lt;MScale&gt;10000&lt;/MScale&gt;&lt;XYTolerance&gt;0.001&lt;/XYTolerance&gt;&lt;ZTolerance&gt;0.001&lt;/ZTolerance&gt;&lt;MTolerance&gt;0.001&lt;/MTolerance&gt;&lt;HighPrecision&gt;true&lt;/HighPrecision&gt;&lt;WKID&gt;26915&lt;/WKID&gt;&lt;LatestWKID&gt;26915&lt;/LatestWKID&gt;&lt;/ProjectedCoordinateSystem&gt;</peXml>
</coordRef>
<RasterProperties>
<General>
<PixelDepth Sync="TRUE">8</PixelDepth>
<HasColormap Sync="TRUE">FALSE</HasColormap>
<CompressionType Sync="TRUE">None</CompressionType>
<NumBands Sync="TRUE">3</NumBands>
<Format Sync="TRUE">AMD</Format>
<HasPyramids Sync="TRUE">TRUE</HasPyramids>
<SourceType Sync="TRUE">continuous</SourceType>
<PixelType Sync="TRUE">unsigned integer</PixelType>
<NoDataValue Sync="TRUE"/>
</General>
<Properties>
<MaxImageHeight Sync="TRUE">4100</MaxImageHeight>
<MaxImageWidth Sync="TRUE">15000</MaxImageWidth>
<MaxRecordCount Sync="TRUE">1000</MaxRecordCount>
<MaxDownloadImageCount Sync="TRUE">20</MaxDownloadImageCount>
<MaxMosaicImageCount Sync="TRUE">20</MaxMosaicImageCount>
<DefaultCompressionQuality Sync="TRUE">75</DefaultCompressionQuality>
<ViewpointSpacingX Sync="TRUE">600</ViewpointSpacingX>
<ViewpointSpacingY Sync="TRUE">300</ViewpointSpacingY>
<AllowedItemMetadata Sync="TRUE">Full</AllowedItemMetadata>
<DefaultResamplingMethod Sync="TRUE">1</DefaultResamplingMethod>
<AllowedMosaicMethods Sync="TRUE">Center,NorthWest,LockRaster,ByAttribute,Nadir,Viewpoint,Seamline,None</AllowedMosaicMethods>
<AllowedCompressions Sync="TRUE">None,JPEG,LZ77</AllowedCompressions>
<AvailableMosaicMethods Sync="TRUE">NorthWest,Center,LockRaster,ByAttribute,Nadir,Viewpoint,Seamline,None</AvailableMosaicMethods>
<AvailableCompressionMethods Sync="TRUE">None,JPEG,LZ77,LERC</AvailableCompressionMethods>
<AvailableItemMetadataLevels Sync="TRUE">None,Basic,Full</AvailableItemMetadataLevels>
<ConfigKeyword Sync="TRUE"/>
<AllowedFields Sync="TRUE">Name,MinPS,MaxPS,LowPS,HighPS,Tag,GroupName,ProductName,CenterX,CenterY,ZOrder,SOrder,StereoID,Shape.area,Shape.len</AllowedFields>
<LowCellSize Sync="TRUE">0.152400299</LowCellSize>
<HighCellSize Sync="TRUE">222.199647118</HighCellSize>
<MaxCellSize Sync="TRUE">11109.98235595</MaxCellSize>
</Properties>
<Functions Sync="TRUE">
<Function Description="Perform on-the-fly mosaic on a raster catalog." Name="Mosaic Function"/>
</Functions>
</RasterProperties>
</DataProperties>
<SyncDate>20181127</SyncDate>
<SyncTime>16033100</SyncTime>
<ModDate>20181127</ModDate>
<ModTime>16033100</ModTime>
<Service Sync="TRUE">OpenAccess/CC_Imagery_2014</Service>
<ServiceType Sync="TRUE">image</ServiceType>
</Esri>
<dataIdInfo>
<dataLang>
<languageCode Sync="TRUE" value="eng"/>
<countryCode Sync="TRUE" value="USA"/>
</dataLang>
<idCitation>
<resTitle Sync="TRUE">CC_Imagery_2014</resTitle>
<presForm>
<PresFormCd Sync="TRUE" value="005"/>
</presForm>
</idCitation>
<spatRpType>
<SpatRepTypCd Sync="TRUE" value="002"/>
</spatRpType>
<dataExt>
<geoEle>
<GeoBndBox esriExtentType="search">
<exTypeCode Sync="TRUE">1</exTypeCode>
<westBL Sync="TRUE">-94.031376</westBL>
<eastBL Sync="TRUE">-93.507603</eastBL>
<northBL Sync="TRUE">44.985903</northBL>
<southBL Sync="TRUE">44.632567</southBL>
</GeoBndBox>
</geoEle>
</dataExt>
<envirDesc Sync="TRUE"> Version 6.2 (Build 9200) ; Esri ArcGIS 10.4.1.5686</envirDesc>
<idAbs/>
<searchKeys>
<keyword>Imagery</keyword>
</searchKeys>
<idPurp>CC_Imagery_2014</idPurp>
<idCredit/>
<resConst>
<Consts>
<useLimit/>
</Consts>
</resConst>
</dataIdInfo>
<mdLang>
<languageCode Sync="TRUE" value="eng"/>
<countryCode Sync="TRUE" value="USA"/>
</mdLang>
<refSysInfo>
<RefSystem>
<refSysID>
<identCode Sync="TRUE" code="26915"/>
<idCodeSpace Sync="TRUE">EPSG</idCodeSpace>
<idVersion Sync="TRUE">6.13(3.0.1)</idVersion>
</refSysID>
</RefSystem>
</refSysInfo>
<spatRepInfo>
<Georect>
<cellGeo>
<CellGeoCd Sync="TRUE" value="002"/>
</cellGeo>
<numDims Sync="TRUE">2</numDims>
<tranParaAv Sync="TRUE">1</tranParaAv>
<chkPtAv Sync="TRUE">0</chkPtAv>
<cornerPts>
<pos Sync="TRUE">418686.919484 4942645.619965</pos>
</cornerPts>
<cornerPts>
<pos Sync="TRUE">418686.919484 4981511.201417</pos>
</cornerPts>
<cornerPts>
<pos Sync="TRUE">459740.664429 4981511.201417</pos>
</cornerPts>
<cornerPts>
<pos Sync="TRUE">459740.664429 4942645.619965</pos>
</cornerPts>
<centerPt>
<pos Sync="TRUE">439213.791956 4962078.410691</pos>
</centerPt>
<axisDimension type="002">
<dimSize Sync="TRUE">269381</dimSize>
<dimResol>
<value Sync="TRUE" uom="m">0.152400</value>
</dimResol>
</axisDimension>
<axisDimension type="001">
<dimSize Sync="TRUE">255023</dimSize>
<dimResol>
<value Sync="TRUE" uom="m">0.152400</value>
</dimResol>
</axisDimension>
<ptInPixel>
<PixOrientCd Sync="TRUE" value="001"/>
</ptInPixel>
</Georect>
</spatRepInfo>
<contInfo>
<ImgDesc>
<contentTyp>
<ContentTypCd Sync="TRUE" value="001"/>
</contentTyp>
<covDim>
<Band>
<dimDescrp Sync="TRUE">Band_1</dimDescrp>
<maxVal Sync="TRUE">255.000000</maxVal>
<minVal Sync="TRUE">0.000000</minVal>
<bitsPerVal Sync="TRUE">8</bitsPerVal>
<valUnit>
<UOM type="length"/>
</valUnit>
</Band>
<Band>
<dimDescrp Sync="TRUE">Band_2</dimDescrp>
<maxVal Sync="TRUE">255.000000</maxVal>
<minVal Sync="TRUE">0.000000</minVal>
<bitsPerVal Sync="TRUE">8</bitsPerVal>
<valUnit>
<UOM type="length"/>
</valUnit>
</Band>
<Band>
<dimDescrp Sync="TRUE">Band_3</dimDescrp>
<maxVal Sync="TRUE">255.000000</maxVal>
<minVal Sync="TRUE">0.000000</minVal>
<bitsPerVal Sync="TRUE">8</bitsPerVal>
<valUnit>
<UOM type="length"/>
</valUnit>
</Band>
</covDim>
</ImgDesc>
</contInfo>
<mdDateSt Sync="TRUE">20181127</mdDateSt>
<idinfo>
<citation>
<citeinfo>
<origin/>
</citeinfo>
</citation>
<descript>
<abstract>OpenAccess/CC_Imagery_2014</abstract>
</descript>
</idinfo>
<eainfo>
<detailed Name="GIS_Production.GIS_DBA.AMD_Imagery_2014_Pictometry_CAT">
<enttyp>
<enttypl Sync="TRUE">GIS_Production.GIS_DBA.AMD_Imagery_2014_Pictometry_CAT</enttypl>
<enttypt Sync="TRUE">Feature Class</enttypt>
<enttypc Sync="TRUE">1063</enttypc>
</enttyp>
<attr>
<attrlabl Sync="TRUE">OBJECTID</attrlabl>
<attalias Sync="TRUE">OBJECTID</attalias>
<attrtype Sync="TRUE">OID</attrtype>
<attwidth Sync="TRUE">4</attwidth>
<atprecis Sync="TRUE">10</atprecis>
<attscale Sync="TRUE">0</attscale>
<attrdef Sync="TRUE">Internal feature number.</attrdef>
<attrdefs Sync="TRUE">Esri</attrdefs>
<attrdomv>
<udom Sync="TRUE">Sequential unique whole numbers that are automatically generated.</udom>
</attrdomv>
</attr>
<attr>
<attrlabl Sync="TRUE">Name</attrlabl>
<attalias Sync="TRUE">Name</attalias>
<attrtype Sync="TRUE">String</attrtype>
<attwidth Sync="TRUE">50</attwidth>
<atprecis Sync="TRUE">0</atprecis>
<attscale Sync="TRUE">0</attscale>
</attr>
<attr>
<attrlabl Sync="TRUE">MinPS</attrlabl>
<attalias Sync="TRUE">MinPS</attalias>
<attrtype Sync="TRUE">Double</attrtype>
<attwidth Sync="TRUE">8</attwidth>
<atprecis Sync="TRUE">20</atprecis>
<attscale Sync="TRUE">9</attscale>
</attr>
<attr>
<attrlabl Sync="TRUE">MaxPS</attrlabl>
<attalias Sync="TRUE">MaxPS</attalias>
<attrtype Sync="TRUE">Double</attrtype>
<attwidth Sync="TRUE">8</attwidth>
<atprecis Sync="TRUE">20</atprecis>
<attscale Sync="TRUE">9</attscale>
</attr>
<attr>
<attrlabl Sync="TRUE">LowPS</attrlabl>
<attalias Sync="TRUE">LowPS</attalias>
<attrtype Sync="TRUE">Double</attrtype>
<attwidth Sync="TRUE">8</attwidth>
<atprecis Sync="TRUE">20</atprecis>
