<?xml version="1.0" encoding="UTF-8" standalone="no"?>
<metadata xml:lang="en">
<Esri>
<CreaDate>20210128</CreaDate>
<CreaTime>13294400</CreaTime>
<ArcGISFormat>1.0</ArcGISFormat>
<SyncOnce>FALSE</SyncOnce>
<DataProperties>
<lineage>
<Process Date="20210128" Time="132944" ToolSource="c:\program files (x86)\arcgis\desktop10.7\ArcToolbox\Toolboxes\Data Management Tools.tbx\CreateMosaicDataset">CreateMosaicDataset \\ch_gis\GISData\Tasks\Connections\Production\GIS_Production_Admin.sde Imagery_2020_Pictometry_Updated "PROJCS['NAD_1983_UTM_Zone_15N',GEOGCS['GCS_North_American_1983',DATUM['D_North_American_1983',SPHEROID['GRS_1980',6378137.0,298.257222101]],PRIMEM['Greenwich',0.0],UNIT['Degree',0.0174532925199433]],PROJECTION['Transverse_Mercator'],PARAMETER['False_Easting',500000.0],PARAMETER['False_Northing',0.0],PARAMETER['Central_Meridian',-93.0],PARAMETER['Scale_Factor',0.9996],PARAMETER['Latitude_Of_Origin',0.0],UNIT['Meter',1.0]];-5120900 -9998100 10000;-100000 10000;-100000 10000;0.001;0.001;0.001;IsHighPrecision" # # NONE #</Process>
<Process Date="20210128" Time="145800" ToolSource="c:\program files (x86)\arcgis\desktop10.7\ArcToolbox\Toolboxes\Data Management Tools.tbx\DefineOverviews">DefineOverviews \\ch_gis\GISData\Tasks\Connections\Production\GIS_Production_Admin.sde\GIS_Production.GIS_PROD_ADMIN.Imagery_2020_Pictometry_Updated \\ch_pictometry\pictometry\Ortho_Imagery_Library\2020_Pictometry\MNCARV20-TILES-6INCH\overview # "418707.0358 4940775.0572 453806.9596 4981949.9619" # # 5120 5120 3 NO_FORCE_OVERVIEW_TILES BILINEAR JPEG 80</Process>
<Process Date="20210128" Time="154657" ToolSource="c:\program files (x86)\arcgis\desktop10.7\ArcToolbox\Toolboxes\Data Management Tools.tbx\BuildOverviews">BuildOverviews \\ch_gis\GISData\Tasks\Connections\Production\GIS_Production_Admin.sde\GIS_Production.GIS_PROD_ADMIN.Imagery_2020_Pictometry_Updated # DEFINE_MISSING_TILES GENERATE_OVERVIEWS GENERATE_MISSING_IMAGES REGENERATE_STALE_IMAGES</Process>
<Process Date="20210129" Time="103234" ToolSource="c:\program files (x86)\arcgis\desktop10.7\ArcToolbox\Toolboxes\Data Management Tools.tbx\BuildOverviews">BuildOverviews \\ch_gis\gisdata\Tasks\Connections\Production\GIS_Production_Admin.sde\GIS_Production.GIS_PROD_ADMIN.Imagery_2020_Pictometry_Updated # DEFINE_MISSING_TILES GENERATE_OVERVIEWS GENERATE_MISSING_IMAGES REGENERATE_STALE_IMAGES</Process>
<Process Date="20230331" Time="121828" ToolSource="e:\program files (x86)\arcgis\desktop10.8\ArcToolbox\Toolboxes\Data Management Tools.tbx\ChangePrivileges">ChangePrivileges \\ch_gis\gisdata\Tasks\Connections\Production\GIS_Production_Admin.sde\GIS_Production.GIS_PROD_ADMIN.Imagery_1969;\\ch_gis\gisdata\Tasks\Connections\Production\GIS_Production_Admin.sde\GIS_Production.GIS_PROD_ADMIN.Imagery_1979;\\ch_gis\gisdata\Tasks\Connections\Production\GIS_Production_Admin.sde\GIS_Production.GIS_PROD_ADMIN.Imagery_1991_USGS;\\ch_gis\gisdata\Tasks\Connections\Production\GIS_Production_Admin.sde\GIS_Production.GIS_PROD_ADMIN.Imagery_1997_MetCouncil;\\ch_gis\gisdata\Tasks\Connections\Production\GIS_Production_Admin.sde\GIS_Production.GIS_PROD_ADMIN.Imagery_2000_MetCouncil;\\ch_gis\gisdata\Tasks\Connections\Production\GIS_Production_Admin.sde\GIS_Production.GIS_PROD_ADMIN.Imagery_2002_AerialExpress;\\ch_gis\gisdata\Tasks\Connections\Production\GIS_Production_Admin.sde\GIS_Production.GIS_PROD_ADMIN.Imagery_2005_AeroMetric;\\ch_gis\gisdata\Tasks\Connections\Production\GIS_Production_Admin.sde\GIS_Production.GIS_PROD_ADMIN.Imagery_2005_MetCouncilCIR;\\ch_gis\gisdata\Tasks\Connections\Production\GIS_Production_Admin.sde\GIS_Production.GIS_PROD_ADMIN.Imagery_2008_Pictometry;\\ch_gis\gisdata\Tasks\Connections\Production\GIS_Production_Admin.sde\GIS_Production.GIS_PROD_ADMIN.Imagery_2011_Pictometry;\\ch_gis\gisdata\Tasks\Connections\Production\GIS_Production_Admin.sde\GIS_Production.GIS_PROD_ADMIN.Imagery_2013_Aerometric;\\ch_gis\gisdata\Tasks\Connections\Production\GIS_Production_Admin.sde\GIS_Production.GIS_PROD_ADMIN.Imagery_2014_Pictometry;\\ch_gis\gisdata\Tasks\Connections\Production\GIS_Production_Admin.sde\GIS_Production.GIS_PROD_ADMIN.Imagery_2016_Surdex;\\ch_gis\gisdata\Tasks\Connections\Production\GIS_Production_Admin.sde\GIS_Production.GIS_PROD_ADMIN.Imagery_2017_Pictometry;\\ch_gis\gisdata\Tasks\Connections\Production\GIS_Production_Admin.sde\GIS_Production.GIS_PROD_ADMIN.Imagery_2017_Pictometry_10_4;\\ch_gis\gisdata\Tasks\Connections\Production\GIS_Production_Admin.sde\GIS_Production.GIS_PROD_ADMIN.Imagery_2019_Ayres;\\ch_gis\gisdata\Tasks\Connections\Production\GIS_Production_Admin.sde\GIS_Production.GIS_PROD_ADMIN.Imagery_2019_Ayres_10_4;\\ch_gis\gisdata\Tasks\Connections\Production\GIS_Production_Admin.sde\GIS_Production.GIS_PROD_ADMIN.Imagery_2020_Pictometry;\\ch_gis\gisdata\Tasks\Connections\Production\GIS_Production_Admin.sde\GIS_Production.GIS_PROD_ADMIN.Imagery_2022_95West;\\ch_gis\gisdata\Tasks\Connections\Production\GIS_Production_Admin.sde\GIS_Production.GIS_PROD_ADMIN.Imagery_1969;\\ch_gis\gisdata\Tasks\Connections\Production\GIS_Production_Admin.sde\GIS_Production.GIS_PROD_ADMIN.Imagery_1979;\\ch_gis\gisdata\Tasks\Connections\Production\GIS_Production_Admin.sde\GIS_Production.GIS_PROD_ADMIN.Imagery_1991_USGS;\\ch_gis\gisdata\Tasks\Connections\Production\GIS_Production_Admin.sde\GIS_Production.GIS_PROD_ADMIN.Imagery_1997_MetCouncil;\\ch_gis\gisdata\Tasks\Connections\Production\GIS_Production_Admin.sde\GIS_Production.GIS_PROD_ADMIN.Imagery_2000_MetCouncil;\\ch_gis\gisdata\Tasks\Connections\Production\GIS_Production_Admin.sde\GIS_Production.GIS_PROD_ADMIN.Imagery_2002_AerialExpress;\\ch_gis\gisdata\Tasks\Connections\Production\GIS_Production_Admin.sde\GIS_Production.GIS_PROD_ADMIN.Imagery_2005_AeroMetric;\\ch_gis\gisdata\Tasks\Connections\Production\GIS_Production_Admin.sde\GIS_Production.GIS_PROD_ADMIN.Imagery_2005_MetCouncilCIR;\\ch_gis\gisdata\Tasks\Connections\Production\GIS_Production_Admin.sde\GIS_Production.GIS_PROD_ADMIN.Imagery_2008_Pictometry;\\ch_gis\gisdata\Tasks\Connections\Production\GIS_Production_Admin.sde\GIS_Production.GIS_PROD_ADMIN.Imagery_2011_Pictometry;\\ch_gis\gisdata\Tasks\Connections\Production\GIS_Production_Admin.sde\GIS_Production.GIS_PROD_ADMIN.Imagery_2013_Aerometric;\\ch_gis\gisdata\Tasks\Connections\Production\GIS_Production_Admin.sde\GIS_Production.GIS_PROD_ADMIN.Imagery_2014_Pictometry;\\ch_gis\gisdata\Tasks\Connections\Production\GIS_Production_Admin.sde\GIS_Production.GIS_PROD_ADMIN.Imagery_2016_Surdex;\\ch_gis\gisdata\Tasks\Connections\Production\GIS_Production_Admin.sde\GIS_Production.GIS_PROD_ADMIN.Imagery_2017_Pictometry;\\ch_gis\gisdata\Tasks\Connections\Production\GIS_Production_Admin.sde\GIS_Production.GIS_PROD_ADMIN.Imagery_2017_Pictometry_10_4;\\ch_gis\gisdata\Tasks\Connections\Production\GIS_Production_Admin.sde\GIS_Production.GIS_PROD_ADMIN.Imagery_2019_Ayres;\\ch_gis\gisdata\Tasks\Connections\Production\GIS_Production_Admin.sde\GIS_Production.GIS_PROD_ADMIN.Imagery_2019_Ayres_10_4;\\ch_gis\gisdata\Tasks\Connections\Production\GIS_Production_Admin.sde\GIS_Production.GIS_PROD_ADMIN.Imagery_2020_Pictometry;\\ch_gis\gisdata\Tasks\Connections\Production\GIS_Production_Admin.sde\GIS_Production.GIS_PROD_ADMIN.Imagery_2022_95West carverco\gis_g GRANT #</Process>
<Process Date="20230331" Time="121831" ToolSource="e:\program files (x86)\arcgis\desktop10.8\ArcToolbox\Toolboxes\Data Management Tools.tbx\ChangePrivileges">ChangePrivileges \\ch_gis\gisdata\Tasks\Connections\Production\GIS_Production_Admin.sde\GIS_Production.GIS_PROD_ADMIN.Imagery_1969;\\ch_gis\gisdata\Tasks\Connections\Production\GIS_Production_Admin.sde\GIS_Production.GIS_PROD_ADMIN.Imagery_1979;\\ch_gis\gisdata\Tasks\Connections\Production\GIS_Production_Admin.sde\GIS_Production.GIS_PROD_ADMIN.Imagery_1991_USGS;\\ch_gis\gisdata\Tasks\Connections\Production\GIS_Production_Admin.sde\GIS_Production.GIS_PROD_ADMIN.Imagery_1997_MetCouncil;\\ch_gis\gisdata\Tasks\Connections\Production\GIS_Production_Admin.sde\GIS_Production.GIS_PROD_ADMIN.Imagery_2000_MetCouncil;\\ch_gis\gisdata\Tasks\Connections\Production\GIS_Production_Admin.sde\GIS_Production.GIS_PROD_ADMIN.Imagery_2002_AerialExpress;\\ch_gis\gisdata\Tasks\Connections\Production\GIS_Production_Admin.sde\GIS_Production.GIS_PROD_ADMIN.Imagery_2005_AeroMetric;\\ch_gis\gisdata\Tasks\Connections\Production\GIS_Production_Admin.sde\GIS_Production.GIS_PROD_ADMIN.Imagery_2005_MetCouncilCIR;\\ch_gis\gisdata\Tasks\Connections\Production\GIS_Production_Admin.sde\GIS_Production.GIS_PROD_ADMIN.Imagery_2008_Pictometry;\\ch_gis\gisdata\Tasks\Connections\Production\GIS_Production_Admin.sde\GIS_Production.GIS_PROD_ADMIN.Imagery_2011_Pictometry;\\ch_gis\gisdata\Tasks\Connections\Production\GIS_Production_Admin.sde\GIS_Production.GIS_PROD_ADMIN.Imagery_2013_Aerometric;\\ch_gis\gisdata\Tasks\Connections\Production\GIS_Production_Admin.sde\GIS_Production.GIS_PROD_ADMIN.Imagery_2014_Pictometry;\\ch_gis\gisdata\Tasks\Connections\Production\GIS_Production_Admin.sde\GIS_Production.GIS_PROD_ADMIN.Imagery_2016_Surdex;\\ch_gis\gisdata\Tasks\Connections\Production\GIS_Production_Admin.sde\GIS_Production.GIS_PROD_ADMIN.Imagery_2017_Pictometry;\\ch_gis\gisdata\Tasks\Connections\Production\GIS_Production_Admin.sde\GIS_Production.GIS_PROD_ADMIN.Imagery_2017_Pictometry_10_4;\\ch_gis\gisdata\Tasks\Connections\Production\GIS_Production_Admin.sde\GIS_Production.GIS_PROD_ADMIN.Imagery_2019_Ayres;\\ch_gis\gisdata\Tasks\Connections\Production\GIS_Production_Admin.sde\GIS_Production.GIS_PROD_ADMIN.Imagery_2019_Ayres_10_4;\\ch_gis\gisdata\Tasks\Connections\Production\GIS_Production_Admin.sde\GIS_Production.GIS_PROD_ADMIN.Imagery_2020_Pictometry;\\ch_gis\gisdata\Tasks\Connections\Production\GIS_Production_Admin.sde\GIS_Production.GIS_PROD_ADMIN.Imagery_2022_95West;\\ch_gis\gisdata\Tasks\Connections\Production\GIS_Production_Admin.sde\GIS_Production.GIS_PROD_ADMIN.Imagery_1969;\\ch_gis\gisdata\Tasks\Connections\Production\GIS_Production_Admin.sde\GIS_Production.GIS_PROD_ADMIN.Imagery_1979;\\ch_gis\gisdata\Tasks\Connections\Production\GIS_Production_Admin.sde\GIS_Production.GIS_PROD_ADMIN.Imagery_1991_USGS;\\ch_gis\gisdata\Tasks\Connections\Production\GIS_Production_Admin.sde\GIS_Production.GIS_PROD_ADMIN.Imagery_1997_MetCouncil;\\ch_gis\gisdata\Tasks\Connections\Production\GIS_Production_Admin.sde\GIS_Production.GIS_PROD_ADMIN.Imagery_2000_MetCouncil;\\ch_gis\gisdata\Tasks\Connections\Production\GIS_Production_Admin.sde\GIS_Production.GIS_PROD_ADMIN.Imagery_2002_AerialExpress;\\ch_gis\gisdata\Tasks\Connections\Production\GIS_Production_Admin.sde\GIS_Production.GIS_PROD_ADMIN.Imagery_2005_AeroMetric;\\ch_gis\gisdata\Tasks\Connections\Production\GIS_Production_Admin.sde\GIS_Production.GIS_PROD_ADMIN.Imagery_2005_MetCouncilCIR;\\ch_gis\gisdata\Tasks\Connections\Production\GIS_Production_Admin.sde\GIS_Production.GIS_PROD_ADMIN.Imagery_2008_Pictometry;\\ch_gis\gisdata\Tasks\Connections\Production\GIS_Production_Admin.sde\GIS_Production.GIS_PROD_ADMIN.Imagery_2011_Pictometry;\\ch_gis\gisdata\Tasks\Connections\Production\GIS_Production_Admin.sde\GIS_Production.GIS_PROD_ADMIN.Imagery_2013_Aerometric;\\ch_gis\gisdata\Tasks\Connections\Production\GIS_Production_Admin.sde\GIS_Production.GIS_PROD_ADMIN.Imagery_2014_Pictometry;\\ch_gis\gisdata\Tasks\Connections\Production\GIS_Production_Admin.sde\GIS_Production.GIS_PROD_ADMIN.Imagery_2016_Surdex;\\ch_gis\gisdata\Tasks\Connections\Production\GIS_Production_Admin.sde\GIS_Production.GIS_PROD_ADMIN.Imagery_2017_Pictometry;\\ch_gis\gisdata\Tasks\Connections\Production\GIS_Production_Admin.sde\GIS_Production.GIS_PROD_ADMIN.Imagery_2017_Pictometry_10_4;\\ch_gis\gisdata\Tasks\Connections\Production\GIS_Production_Admin.sde\GIS_Production.GIS_PROD_ADMIN.Imagery_2019_Ayres;\\ch_gis\gisdata\Tasks\Connections\Production\GIS_Production_Admin.sde\GIS_Production.GIS_PROD_ADMIN.Imagery_2019_Ayres_10_4;\\ch_gis\gisdata\Tasks\Connections\Production\GIS_Production_Admin.sde\GIS_Production.GIS_PROD_ADMIN.Imagery_2020_Pictometry;\\ch_gis\gisdata\Tasks\Connections\Production\GIS_Production_Admin.sde\GIS_Production.GIS_PROD_ADMIN.Imagery_2022_95West carverco\gis_g GRANT #</Process>
<Process Date="20230331" Time="122143" ToolSource="e:\program files (x86)\arcgis\desktop10.8\ArcToolbox\Toolboxes\Data Management Tools.tbx\ChangePrivileges">ChangePrivileges \\ch_gis\gisdata\Tasks\Connections\Production\GIS_Production_Admin.sde\GIS_Production.GIS_PROD_ADMIN.Imagery_2016_Surdex;\\ch_gis\gisdata\Tasks\Connections\Production\GIS_Production_Admin.sde\GIS_Production.GIS_PROD_ADMIN.Imagery_2017_Pictometry;\\ch_gis\gisdata\Tasks\Connections\Production\GIS_Production_Admin.sde\GIS_Production.GIS_PROD_ADMIN.Imagery_2017_Pictometry_10_4;\\ch_gis\gisdata\Tasks\Connections\Production\GIS_Production_Admin.sde\GIS_Production.GIS_PROD_ADMIN.Imagery_2019_Ayres;\\ch_gis\gisdata\Tasks\Connections\Production\GIS_Production_Admin.sde\GIS_Production.GIS_PROD_ADMIN.Imagery_2019_Ayres_10_4;\\ch_gis\gisdata\Tasks\Connections\Production\GIS_Production_Admin.sde\GIS_Production.GIS_PROD_ADMIN.Imagery_2020_Pictometry;\\ch_gis\gisdata\Tasks\Connections\Production\GIS_Production_Admin.sde\GIS_Production.GIS_PROD_ADMIN.Imagery_2022_95West carverco\gis_g GRANT #</Process>
<Process Date="20230331" Time="122158" ToolSource="e:\program files (x86)\arcgis\desktop10.8\ArcToolbox\Toolboxes\Data Management Tools.tbx\ChangePrivileges">ChangePrivileges \\ch_gis\gisdata\Tasks\Connections\Production\GIS_Production_Admin.sde\GIS_Production.GIS_PROD_ADMIN.Imagery_2016_Surdex;\\ch_gis\gisdata\Tasks\Connections\Production\GIS_Production_Admin.sde\GIS_Production.GIS_PROD_ADMIN.Imagery_2017_Pictometry;\\ch_gis\gisdata\Tasks\Connections\Production\GIS_Production_Admin.sde\GIS_Production.GIS_PROD_ADMIN.Imagery_2017_Pictometry_10_4;\\ch_gis\gisdata\Tasks\Connections\Production\GIS_Production_Admin.sde\GIS_Production.GIS_PROD_ADMIN.Imagery_2019_Ayres;\\ch_gis\gisdata\Tasks\Connections\Production\GIS_Production_Admin.sde\GIS_Production.GIS_PROD_ADMIN.Imagery_2019_Ayres_10_4;\\ch_gis\gisdata\Tasks\Connections\Production\GIS_Production_Admin.sde\GIS_Production.GIS_PROD_ADMIN.Imagery_2020_Pictometry;\\ch_gis\gisdata\Tasks\Connections\Production\GIS_Production_Admin.sde\GIS_Production.GIS_PROD_ADMIN.Imagery_2022_95West carverco\gis_g GRANT #</Process>
</lineage>
<itemProps>
<itemName Sync="TRUE">GIS_Production.GIS_PROD_ADMIN.Imagery_2020_Pictometry</itemName>
<itemLocation>
<linkage Sync="TRUE">Server=GIS_Production; Service=sde:sqlserver:GIS_Production; Database=GIS_Production; Version=sde.DEFAULT</linkage>
<protocol Sync="TRUE">ArcSDE Connection</protocol>
</itemLocation>
<nativeExtBox>
<westBL Sync="TRUE">418707.035800</westBL>
<eastBL Sync="TRUE">459881.939253</eastBL>
<southBL Sync="TRUE">4940775.058447</southBL>
<northBL Sync="TRUE">4981949.961900</northBL>
<exTypeCode Sync="TRUE">1</exTypeCode>
</nativeExtBox>
</itemProps>
<coordRef>
<type Sync="TRUE">Projected</type>
<geogcsn Sync="TRUE">GCS_North_American_1983</geogcsn>
<csUnits Sync="TRUE">Linear Unit: Meter (1.000000)</csUnits>
<projcsn Sync="TRUE">NAD_1983_UTM_Zone_15N</projcsn>
<peXml Sync="TRUE">&lt;ProjectedCoordinateSystem xsi:type='typens:ProjectedCoordinateSystem' xmlns:xsi='http://www.w3.org/2001/XMLSchema-instance' xmlns:xs='http://www.w3.org/2001/XMLSchema' xmlns:typens='http://www.esri.com/schemas/ArcGIS/10.7'&gt;&lt;WKT&gt;PROJCS[&amp;quot;NAD_1983_UTM_Zone_15N&amp;quot;,GEOGCS[&amp;quot;GCS_North_American_1983&amp;quot;,DATUM[&amp;quot;D_North_American_1983&amp;quot;,SPHEROID[&amp;quot;GRS_1980&amp;quot;,6378137.0,298.257222101]],PRIMEM[&amp;quot;Greenwich&amp;quot;,0.0],UNIT[&amp;quot;Degree&amp;quot;,0.0174532925199433]],PROJECTION[&amp;quot;Transverse_Mercator&amp;quot;],PARAMETER[&amp;quot;False_Easting&amp;quot;,500000.0],PARAMETER[&amp;quot;False_Northing&amp;quot;,0.0],PARAMETER[&amp;quot;Central_Meridian&amp;quot;,-93.0],PARAMETER[&amp;quot;Scale_Factor&amp;quot;,0.9996],PARAMETER[&amp;quot;Latitude_Of_Origin&amp;quot;,0.0],UNIT[&amp;quot;Meter&amp;quot;,1.0],AUTHORITY[&amp;quot;EPSG&amp;quot;,26915]]&lt;/WKT&gt;&lt;XOrigin&gt;-5120900&lt;/XOrigin&gt;&lt;YOrigin&gt;-9998100&lt;/YOrigin&gt;&lt;XYScale&gt;450445547.3910538&lt;/XYScale&gt;&lt;ZOrigin&gt;-100000&lt;/ZOrigin&gt;&lt;ZScale&gt;10000&lt;/ZScale&gt;&lt;MOrigin&gt;-100000&lt;/MOrigin&gt;&lt;MScale&gt;10000&lt;/MScale&gt;&lt;XYTolerance&gt;0.001&lt;/XYTolerance&gt;&lt;ZTolerance&gt;0.001&lt;/ZTolerance&gt;&lt;MTolerance&gt;0.001&lt;/MTolerance&gt;&lt;HighPrecision&gt;true&lt;/HighPrecision&gt;&lt;WKID&gt;26915&lt;/WKID&gt;&lt;LatestWKID&gt;26915&lt;/LatestWKID&gt;&lt;/ProjectedCoordinateSystem&gt;</peXml>
</coordRef>
<RasterProperties>
<General>
<PixelDepth Sync="TRUE">8</PixelDepth>
<HasColormap Sync="TRUE">FALSE</HasColormap>
<CompressionType Sync="TRUE">None</CompressionType>
<NumBands Sync="TRUE">3</NumBands>
<Format Sync="TRUE">AMD</Format>
<HasPyramids Sync="TRUE">TRUE</HasPyramids>
<SourceType Sync="TRUE">continuous</SourceType>
<PixelType Sync="TRUE">unsigned integer</PixelType>
<NoDataValue Sync="TRUE"/>
</General>
<Properties>
<MaxImageHeight Sync="TRUE">4100</MaxImageHeight>
<MaxImageWidth Sync="TRUE">15000</MaxImageWidth>
<MaxRecordCount Sync="TRUE">1000</MaxRecordCount>
<MaxDownloadImageCount Sync="TRUE">20</MaxDownloadImageCount>
<MaxDownloadSizeLimit Sync="TRUE">2048</MaxDownloadSizeLimit>
<MaxMosaicImageCount Sync="TRUE">20</MaxMosaicImageCount>
<DefaultCompressionQuality Sync="TRUE">75</DefaultCompressionQuality>
<DefaultCompressionTolerance Sync="TRUE">0.01</DefaultCompressionTolerance>
<BlendWidth Sync="TRUE">10</BlendWidth>
<ViewpointSpacingX Sync="TRUE">600</ViewpointSpacingX>
<ViewpointSpacingY Sync="TRUE">300</ViewpointSpacingY>
<AllowedItemMetadata Sync="TRUE">Basic</AllowedItemMetadata>
<DefaultResamplingMethod Sync="TRUE">1</DefaultResamplingMethod>
<AllowedMosaicMethods Sync="TRUE">NorthWest,Center,LockRaster,ByAttribute,Nadir,Viewpoint,Seamline,None</AllowedMosaicMethods>
<AllowedCompressions Sync="TRUE">None,JPEG,LZ77,LERC</AllowedCompressions>
<AllowedMensurationCapabilities Sync="TRUE">None</AllowedMensurationCapabilities>
<AvailableMensurationCapabilities Sync="TRUE">None,Basic,Base-Top Height,Top-Top Shadow Height,Base-Top Shadow Height,3D</AvailableMensurationCapabilities>
<ClipToBoundary Sync="TRUE">-1</ClipToBoundary>
<FootprintMayContainNoData Sync="TRUE">-1</FootprintMayContainNoData>
<CellSizeTolerance Sync="TRUE">0.8</CellSizeTolerance>
<MinimumPixelContribution Sync="TRUE">1</MinimumPixelContribution>
<AvailableMosaicMethods Sync="TRUE">NorthWest,Center,LockRaster,ByAttribute,Nadir,Viewpoint,Seamline,None</AvailableMosaicMethods>
<AvailableCompressionMethods Sync="TRUE">None,JPEG,LZ77,LERC</AvailableCompressionMethods>
<AvailableItemMetadataLevels Sync="TRUE">None,Basic,Full</AvailableItemMetadataLevels>
<BandDefinitionKeyword Sync="TRUE">NONE</BandDefinitionKeyword>
<_docversion_ Sync="TRUE">10</_docversion_>
<AllowedFields Sync="TRUE">Name,MinPS,MaxPS,LowPS,HighPS,Tag,GroupName,ProductName,CenterX,CenterY,ZOrder,Shape.STArea(),Shape.STLength()</AllowedFields>
<MaxCellSize Sync="TRUE">11109.98187</MaxCellSize>
<LowCellSize Sync="TRUE">0.1524003</LowCellSize>
<HighCellSize Sync="TRUE">222.1996374</HighCellSize>
<ApplyColorCorrection Sync="TRUE">0</ApplyColorCorrection>
</Properties>
<Functions Sync="TRUE">
<Function Description="Performs on-the-fly mosaic on a raster catalog." Name="Mosaic Function"/>
</Functions>
</RasterProperties>
</DataProperties>
<SyncDate>20220427</SyncDate>
<SyncTime>10350400</SyncTime>
<ModDate>20220427</ModDate>
<ModTime>10350400</ModTime>
</Esri>
<dataIdInfo>
<envirDesc Sync="TRUE"> Version 6.2 (Build 9200) ; Esri ArcGIS 10.7.1.11595</envirDesc>
<dataLang>
<languageCode Sync="TRUE" value="eng"/>
<countryCode Sync="TRUE" value="USA"/>
</dataLang>
<idCitation>
<resTitle Sync="TRUE">CC_Imagery_2020</resTitle>
<presForm>
<PresFormCd Sync="TRUE" value="005"/>
</presForm>
</idCitation>
<spatRpType>
<SpatRepTypCd Sync="TRUE" value="002"/>
</spatRpType>
<dataExt>
<geoEle>
<GeoBndBox esriExtentType="search">
<exTypeCode Sync="TRUE">1</exTypeCode>
<westBL Sync="TRUE">-94.031191</westBL>
<eastBL Sync="TRUE">-93.505675</eastBL>
<northBL Sync="TRUE">44.989860</northBL>
<southBL Sync="TRUE">44.615732</southBL>
</GeoBndBox>
</geoEle>
</dataExt>
<idAbs/>
<searchKeys>
<keyword>Imagery</keyword>
</searchKeys>
<idPurp>CC_Imagery_2020</idPurp>
<idCredit/>
<resConst>
<Consts>
<useLimit/>
</Consts>
</resConst>
</dataIdInfo>
<mdLang>
<languageCode Sync="TRUE" value="eng"/>
<countryCode Sync="TRUE" value="USA"/>
</mdLang>
<refSysInfo>
<RefSystem>
<refSysID>
<identCode Sync="TRUE" code="26915"/>
<idCodeSpace Sync="TRUE">EPSG</idCodeSpace>
<idVersion Sync="TRUE">6.13(3.0.1)</idVersion>
</refSysID>
</RefSystem>
</refSysInfo>
<spatRepInfo>
<Georect>
<cellGeo>
<CellGeoCd Sync="TRUE" value="002"/>
</cellGeo>
<numDims Sync="TRUE">2</numDims>
<tranParaAv Sync="TRUE">1</tranParaAv>
<chkPtAv Sync="TRUE">0</chkPtAv>
<cornerPts>
<pos Sync="TRUE">418707.035800 4940775.058447</pos>
</cornerPts>
<cornerPts>
<pos Sync="TRUE">418707.035800 4981949.961900</pos>
</cornerPts>
<cornerPts>
<pos Sync="TRUE">459881.939253 4981949.961900</pos>
</cornerPts>
<cornerPts>
<pos Sync="TRUE">459881.939253 4940775.058447</pos>
</cornerPts>
<centerPt>
<pos Sync="TRUE">439294.487526 4961362.510174</pos>
</centerPt>
<axisDimension type="002">
<dimSize Sync="TRUE">270176</dimSize>
<dimResol>
<value Sync="TRUE" uom="m">0.152400</value>
</dimResol>
</axisDimension>
<axisDimension type="001">
<dimSize Sync="TRUE">270176</dimSize>
<dimResol>
<value Sync="TRUE" uom="m">0.152400</value>
</dimResol>
</axisDimension>
<ptInPixel>
<PixOrientCd Sync="TRUE" value="001"/>
</ptInPixel>
</Georect>
</spatRepInfo>
<contInfo>
<ImgDesc>
<contentTyp>
<ContentTypCd Sync="TRUE" value="001"/>
</contentTyp>
<covDim>
<Band>
<dimDescrp Sync="TRUE">Band_1</dimDescrp>
<maxVal Sync="TRUE">255.000000</maxVal>
<minVal Sync="TRUE">0.000000</minVal>
<bitsPerVal Sync="TRUE">8</bitsPerVal>
<valUnit>
<UOM type="length"/>
</valUnit>
</Band>
<Band>
<dimDescrp Sync="TRUE">Band_2</dimDescrp>
<maxVal Sync="TRUE">255.000000</maxVal>
<minVal Sync="TRUE">0.000000</minVal>
<bitsPerVal Sync="TRUE">8</bitsPerVal>
<valUnit>
<UOM type="length"/>
</valUnit>
</Band>
<Band>
<dimDescrp Sync="TRUE">Band_3</dimDescrp>
<maxVal Sync="TRUE">255.000000</maxVal>
<minVal Sync="TRUE">0.000000</minVal>
<bitsPerVal Sync="TRUE">8</bitsPerVal>
<valUnit>
<UOM type="length"/>
</valUnit>
</Band>
</covDim>
</ImgDesc>
</contInfo>
<mdDateSt Sync="TRUE">20220427</mdDateSt>
</metadata>
