<?xml version="1.0" encoding="UTF-8" standalone="no"?>
<metadata xml:lang="en">
<Esri>
<CreaDate>20240628</CreaDate>
<CreaTime>11355400</CreaTime>
<ArcGISFormat>1.0</ArcGISFormat>
<SyncOnce>FALSE</SyncOnce>
<DataProperties>
<lineage>
<Process Date="20240628" Name="" Time="081050" ToolSource="e:\program files\arcgis\pro\Resources\ArcToolbox\toolboxes\Data Management Tools.tbx\CreateMosaicDataset" export="">CreateMosaicDataset \\ch_gis\gisdata\Tasks\Connections\Production\GIS_Production_Admin.sde Imagery_2024_Pictometry PROJCS["NAD_1983_HARN_Adj_MN_Carver_Feet",GEOGCS["GCS_NAD_1983_HARN_Adj_MN_Carver",DATUM["D_NAD_1983_HARN_Adj_MN_Carver",SPHEROID["S_GRS_1980_Adj_MN_Carver",6378400.653,298.2572221008827]],PRIMEM["Greenwich",0.0],UNIT["Degree",0.0174532925199433]],PROJECTION["Lambert_Conformal_Conic"],PARAMETER["False_Easting",500000.0],PARAMETER["False_Northing",100000.0],PARAMETER["Central_Meridian",-93.76666666666667],PARAMETER["Standard_Parallel_1",44.68333333333333],PARAMETER["Standard_Parallel_2",44.9],PARAMETER["Latitude_Of_Origin",44.63972222222222],UNIT["Foot_US",0.3048006096012192]] 3 # "Natural color" "Red 630 690;Green 530 570;Blue 440 510"</Process>
<Process Date="20240628" Name="" Time="113555" ToolSource="e:\program files\arcgis\pro\Resources\ArcToolbox\toolboxes\Data Management Tools.tbx\CopyMultiple" export="">CopyMultiple "'E:\Work\2024 Cache\Imagery_2024.gdb\Imagery_2024_Pictometry' MosaicDataset" \\ch_gis\gisdata\Tasks\Connections\Production\GIS_Production_Admin.sde Imagery_2024_Pictometry "Imagery_2024_Pictometry MosaicDataset GIS_Production.GIS_PROD_ADMIN.Imagery_2024_Pictometry #"</Process>
</lineage>
<itemProps>
<itemLocation>
<linkage Sync="TRUE">Server=GIS_Production; Service=sde:sqlserver:GIS_Production; Database=GIS_Production; User=GIS_Prod_Admin; Version=sde.DEFAULT</linkage>
<protocol Sync="TRUE">ArcSDE Connection</protocol>
</itemLocation>
<itemName Sync="TRUE">GIS_Production.GIS_PROD_ADMIN.Imagery_2024_Pictometry</itemName>
<nativeExtBox>
<westBL Sync="TRUE">430320.000000</westBL>
<eastBL Sync="TRUE">570240.000000</eastBL>
<southBL Sync="TRUE">92136.000000</southBL>
<northBL Sync="TRUE">229416.000000</northBL>
<exTypeCode Sync="TRUE">1</exTypeCode>
</nativeExtBox>
</itemProps>
<coordRef>
<type Sync="TRUE">Projected</type>
<geogcsn Sync="TRUE">GCS_NAD_1983_HARN_Adj_MN_Carver</geogcsn>
<csUnits Sync="TRUE">Linear Unit: Foot_US (0.304801)</csUnits>
<projcsn Sync="TRUE">NAD_1983_HARN_Adj_MN_Carver_Feet</projcsn>
<peXml Sync="TRUE">&lt;ProjectedCoordinateSystem xsi:type='typens:ProjectedCoordinateSystem' xmlns:xsi='http://www.w3.org/2001/XMLSchema-instance' xmlns:xs='http://www.w3.org/2001/XMLSchema' xmlns:typens='http://www.esri.com/schemas/ArcGIS/3.2.0'&gt;&lt;WKT&gt;PROJCS[&amp;quot;NAD_1983_HARN_Adj_MN_Carver_Feet&amp;quot;,GEOGCS[&amp;quot;GCS_NAD_1983_HARN_Adj_MN_Carver&amp;quot;,DATUM[&amp;quot;D_NAD_1983_HARN_Adj_MN_Carver&amp;quot;,SPHEROID[&amp;quot;S_GRS_1980_Adj_MN_Carver&amp;quot;,6378400.653,298.2572221008827]],PRIMEM[&amp;quot;Greenwich&amp;quot;,0.0],UNIT[&amp;quot;Degree&amp;quot;,0.0174532925199433]],PROJECTION[&amp;quot;Lambert_Conformal_Conic&amp;quot;],PARAMETER[&amp;quot;False_Easting&amp;quot;,500000.0],PARAMETER[&amp;quot;False_Northing&amp;quot;,100000.0],PARAMETER[&amp;quot;Central_Meridian&amp;quot;,-93.76666666666667],PARAMETER[&amp;quot;Standard_Parallel_1&amp;quot;,44.68333333333333],PARAMETER[&amp;quot;Standard_Parallel_2&amp;quot;,44.9],PARAMETER[&amp;quot;Latitude_Of_Origin&amp;quot;,44.63972222222222],UNIT[&amp;quot;Foot_US&amp;quot;,0.3048006096012192],AUTHORITY[&amp;quot;Esri&amp;quot;,103717]]&lt;/WKT&gt;&lt;XOrigin&gt;-119161400&lt;/XOrigin&gt;&lt;YOrigin&gt;-98391700&lt;/YOrigin&gt;&lt;XYScale&gt;37636193.687943608&lt;/XYScale&gt;&lt;ZOrigin&gt;-100000&lt;/ZOrigin&gt;&lt;ZScale&gt;10000&lt;/ZScale&gt;&lt;MOrigin&gt;-100000&lt;/MOrigin&gt;&lt;MScale&gt;10000&lt;/MScale&gt;&lt;XYTolerance&gt;0.0032808333333333331&lt;/XYTolerance&gt;&lt;ZTolerance&gt;0.001&lt;/ZTolerance&gt;&lt;MTolerance&gt;0.001&lt;/MTolerance&gt;&lt;HighPrecision&gt;true&lt;/HighPrecision&gt;&lt;WKID&gt;103717&lt;/WKID&gt;&lt;LatestWKID&gt;103717&lt;/LatestWKID&gt;&lt;/ProjectedCoordinateSystem&gt;</peXml>
</coordRef>
<RasterProperties>
<General>
<PixelDepth Sync="TRUE">8</PixelDepth>
<HasColormap Sync="TRUE">FALSE</HasColormap>
<CompressionType Sync="TRUE">None</CompressionType>
<NumBands Sync="TRUE">3</NumBands>
<Format Sync="TRUE">AMD</Format>
<HasPyramids Sync="TRUE">TRUE</HasPyramids>
<SourceType Sync="TRUE">continuous</SourceType>
<PixelType Sync="TRUE">unsigned integer</PixelType>
<NoDataValue Sync="TRUE"/>
</General>
<Properties>
<MaxImageHeight Sync="TRUE">4100</MaxImageHeight>
<MaxImageWidth Sync="TRUE">15000</MaxImageWidth>
<MaxRecordCount Sync="TRUE">1000</MaxRecordCount>
<MaxDownloadImageCount Sync="TRUE">20</MaxDownloadImageCount>
<MaxDownloadSizeLimit Sync="TRUE">2048</MaxDownloadSizeLimit>
<MaxMosaicImageCount Sync="TRUE">20</MaxMosaicImageCount>
<DefaultCompressionQuality Sync="TRUE">75</DefaultCompressionQuality>
<DefaultCompressionTolerance Sync="TRUE">0.01</DefaultCompressionTolerance>
<BlendWidth Sync="TRUE">10</BlendWidth>
<ViewpointSpacingX Sync="TRUE">600</ViewpointSpacingX>
<ViewpointSpacingY Sync="TRUE">300</ViewpointSpacingY>
<AllowedItemMetadata Sync="TRUE">Basic</AllowedItemMetadata>
<DefaultResamplingMethod Sync="TRUE">1</DefaultResamplingMethod>
<AllowedMosaicMethods Sync="TRUE">NorthWest,Center,LockRaster,ByAttribute,Nadir,Viewpoint,Seamline,None</AllowedMosaicMethods>
<AllowedCompressions Sync="TRUE">None,JPEG,LZ77,LERC</AllowedCompressions>
<AllowedMensurationCapabilities Sync="TRUE">None</AllowedMensurationCapabilities>
<AvailableMensurationCapabilities Sync="TRUE">None,Basic,Base-Top Height,Top-Top Shadow Height,Base-Top Shadow Height,3D</AvailableMensurationCapabilities>
<ClipToBoundary Sync="TRUE">-1</ClipToBoundary>
<FootprintMayContainNoData Sync="TRUE">-1</FootprintMayContainNoData>
<CellSizeTolerance Sync="TRUE">0.8</CellSizeTolerance>
<MinimumPixelContribution Sync="TRUE">1</MinimumPixelContribution>
<AvailableMosaicMethods Sync="TRUE">NorthWest,Center,LockRaster,ByAttribute,Nadir,Viewpoint,Seamline,None</AvailableMosaicMethods>
<AvailableCompressionMethods Sync="TRUE">None,JPEG,LZ77,LERC</AvailableCompressionMethods>
<AvailableItemMetadataLevels Sync="TRUE">None,Basic,Full</AvailableItemMetadataLevels>
<BandDefinitionKeyword Sync="TRUE">NaturalColor</BandDefinitionKeyword>
<_docversion_ Sync="TRUE">10</_docversion_>
<AllowedFields Sync="TRUE">Name,MinPS,MaxPS,LowPS,HighPS,Tag,GroupName,ProductName,CenterX,CenterY,ZOrder,Shape.STArea(),Shape.STLength(),Thumbnail</AllowedFields>
<TimeStamp.RemoveItems Sync="TRUE">45471.6397014236</TimeStamp.RemoveItems>
<TimeStamp.UpdateExtent Sync="TRUE">45471.6543085648</TimeStamp.UpdateExtent>
<ApplyColorCorrection Sync="TRUE">0</ApplyColorCorrection>
<LowCellSize Sync="TRUE">0.5</LowCellSize>
<HighCellSize Sync="TRUE">1</HighCellSize>
<MaxCellSize Sync="TRUE">36450</MaxCellSize>
</Properties>
<Functions Sync="TRUE">
<Function Description="Enhances an image by changing properties such as brightness, contrast and gamma through multiple stretch types." Name="Stretch Function">
<Arguments>
<Raster>MosaicFunction.OutputRaster</Raster>
<Statistics>0.000000 255.000000 141.722788 42.326487 0.000000 255.000000 127.915975 41.921522 0.000000 255.000000 89.740950 37.930047</Statistics>
<Gamma>1.048561 1.126788 1.330159</Gamma>
<UseGamma>-1</UseGamma>
<ComputeGamma>-1</ComputeGamma>
<MinPercent>0.5</MinPercent>
<MaxPercent>0.5</MaxPercent>
<StretchType>0</StretchType>
<SigmoidStrengthLevel>2</SigmoidStrengthLevel>
<DRA>0</DRA>
<Min>0</Min>
<Max>255</Max>
<EstimateStatsHistogram>0</EstimateStatsHistogram>
<NumberOfStandardDeviation>2.5</NumberOfStandardDeviation>
</Arguments>
</Function>
<Function Description="Performs on-the-fly mosaic on a raster catalog." Name="Mosaic Function"/>
</Functions>
</RasterProperties>
</DataProperties>
<ArcGISProfile>ItemDescription</ArcGISProfile>
<SyncDate>20240628</SyncDate>
<SyncTime>12412800</SyncTime>
<ModDate>20240628</ModDate>
<ModTime>12440400</ModTime>
<scaleRange>
<minScale>150000000</minScale>
<maxScale>5000</maxScale>
</scaleRange>
</Esri>
<mdLang>
<languageCode value="eng"/>
<countryCode Sync="TRUE" value="USA"/>
</mdLang>
<mdChar>
<CharSetCd value="004"/>
</mdChar>
<mdHrLv>
<ScopeCd value="005"/>
</mdHrLv>
<mdContact>
<rpOrgName>Pictometry International Corp.</rpOrgName>
<rpPosName>Customer Support</rpPosName>
<rpCntInfo>
<cntPhone>
<voiceNum>585-486-0093</voiceNum>
<faxNum>585-486-0098</faxNum>
</cntPhone>
<cntAddress addressType="both">
<delPoint>25 Methodist Hill Drive</delPoint>
<delPoint>Suite A</delPoint>
<city>Rochester</city>
<adminArea>New York</adminArea>
<postCode>14623</postCode>
<country>US</country>
</cntAddress>
<cntHours>0900-1700 EST</cntHours>
</rpCntInfo>
<role>
<RoleCd value="007"/>
</role>
</mdContact>
<mdDateSt Sync="TRUE">20240628</mdDateSt>
<mdStanName>ArcGIS Metadata</mdStanName>
<mdStanVer>1.0</mdStanVer>
<dataIdInfo>
<idCitation>
<resTitle>CC_Imagery_2024</resTitle>
<date>
<pubDate>2024-05-29</pubDate>
</date>
<citRespParty>
<rpOrgName>Pictometry International</rpOrgName>
<role>
<RoleCd value="006"/>
</role>
</citRespParty>
<presForm>
<PresFormCd value="005"/>
</presForm>
<presForm>
<fgdcGeoform>vector digital data</fgdcGeoform>
</presForm>
</idCitation>
<idAbs>&lt;div style='text-align:Left;'&gt;&lt;div&gt;&lt;p&gt;&lt;span&gt;The dataset consists of tiled orthogonal imagery produced from nadir images captured by Pictometry International from 4/6/2024 to 5/8/2024.&lt;/span&gt;&lt;/p&gt;&lt;/div&gt;&lt;/div&gt;</idAbs>
<idPurp>This ortho-mosaic is a visualization product and is not intended or valid for authoritative or definitive use, nor is it suitable for submittal to the USGS for funding reimbursement in such programs.</idPurp>
<idStatus>
<ProgCd value="001"/>
</idStatus>
<idPoC>
<rpOrgName>Pictometry International Corp.</rpOrgName>
<rpPosName>Customer Support</rpPosName>
<rpCntInfo>
<cntPhone>
<voiceNum>585-486-0093</voiceNum>
<faxNum>585-486-0098</faxNum>
</cntPhone>
<cntAddress addressType="both">
<delPoint>25 Methodist Hill Drive</delPoint>
<city>Rochester</city>
<adminArea>New York</adminArea>
<postCode>14623</postCode>
<country>US</country>
</cntAddress>
<cntHours>0900-1700 EST</cntHours>
</rpCntInfo>
<role>
<RoleCd value="007"/>
</role>
</idPoC>
<resMaint>
<maintFreq>
<MaintFreqCd value="012"/>
</maintFreq>
</resMaint>
<tempKeys>
<keyword>Current</keyword>
</tempKeys>
<themeKeys>
<thesaName>
<resTitle>Pictometry International</resTitle>
</thesaName>
<keyword>Pictometry Standard</keyword>
</themeKeys>
<searchKeys>
<keyword>Pictometry Standard</keyword>
</searchKeys>
<resConst>
<Consts>
<useLimit>&lt;div style='text-align:Left;'&gt;&lt;div&gt;&lt;p&gt;&lt;span&gt;Use of this dataset is constrained by the relevant Pictometry International Corp. license agreement&lt;/span&gt;&lt;/p&gt;&lt;/div&gt;&lt;/div&gt;</useLimit>
</Consts>
</resConst>
<resConst>
<LegConsts>
<useLimit>Distribution of this dataset is constrained by the relevant Pictometry International Corp. license agreement</useLimit>
<accessConsts>
<RestrictCd value="008"/>
</accessConsts>
<othConsts>Access to this dataset is constrained by the relevant Pictometry International Corp. license agreement</othConsts>
</LegConsts>
</resConst>
<aggrInfo>
<aggrDSName>
<resTitle>MN_Carver_Combined_Grid</resTitle>
<date>
<pubDate>2024-05-29</pubDate>
</date>
<citRespParty>
<rpOrgName>Pictometry International</rpOrgName>
<role>
<RoleCd value="006"/>
</role>
</citRespParty>
<presForm>
<PresFormCd value="005"/>
</presForm>
<presForm>
<fgdcGeoform>vector digital data</fgdcGeoform>
</presForm>
</aggrDSName>
<assocType>
<AscTypeCd value="001"/>
</assocType>
</aggrInfo>
<spatRpType>
<SpatRepTypCd value="001"/>
</spatRpType>
<dataLang>
<languageCode value="eng"/>
<countryCode Sync="TRUE" value="USA"/>
</dataLang>
<dataExt>
<geoEle>
<GeoBndBox>
<exTypeCode>true</exTypeCode>
<westBL>-94.035957</westBL>
<eastBL>-93.495584</eastBL>
<northBL>44.994666</northBL>
<southBL>44.618149</southBL>
</GeoBndBox>
</geoEle>
</dataExt>
<dataExt>
<exDesc>ground condition</exDesc>
<tempEle>
<TempExtent>
<exTemp>
<TM_Period>
<tmBegin>2024-04-06</tmBegin>
<tmEnd>2024-05-08</tmEnd>
</TM_Period>
</exTemp>
</TempExtent>
</tempEle>
</dataExt>
<envirDesc Sync="TRUE">Microsoft Windows Server 2016 Technical Preview Version 10.0 (Build 17763) ; Esri ArcGIS 13.2.0.49743</envirDesc>
<dataExt>
<geoEle>
<GeoBndBox esriExtentType="search">
<exTypeCode Sync="TRUE">1</exTypeCode>
<westBL Sync="TRUE">-94.035992</westBL>
<eastBL Sync="TRUE">-93.495176</eastBL>
<northBL Sync="TRUE">44.994668</northBL>
<southBL Sync="TRUE">44.617834</southBL>
</GeoBndBox>
</geoEle>
</dataExt>
<idCredit/>
</dataIdInfo>
<dqInfo>
<dqScope>
<scpLvl>
<ScopeCd value="005"/>
</scpLvl>
</dqScope>
<report type="DQConcConsis">
<measDesc>Dataset is orthoimagery. Logical consistency is not applicable.</measDesc>
</report>
<report type="DQCompOm">
<measDesc>Unknown</measDesc>
</report>
<dataLineage>
<prcStep>
<stepDesc>GPS/INS processing: Data was post-processed using NGS CORS base station data.</stepDesc>
<stepDateTm date="unknown"/>
<stepProc>
<rpOrgName>Pictometry International Corp.</rpOrgName>
<rpPosName>Customer Support</rpPosName>
<rpCntInfo>
<cntPhone>
<voiceNum>585-486-0093</voiceNum>
<faxNum>585-486-0098</faxNum>
</cntPhone>
<cntAddress addressType="both">
<delPoint>25 Methodist Hill Drive</delPoint>
<delPoint>Suite A</delPoint>
<city>Rochester</city>
<adminArea>New York</adminArea>
<postCode>14623</postCode>
<country>US</country>
</cntAddress>
<cntHours>0900-1700 EST</cntHours>
</rpCntInfo>
<role>
<RoleCd value="009"/>
</role>
</stepProc>
</prcStep>
<prcStep>
<stepDesc>Mosaicing: Mosaicing was performed using Pictometry software</stepDesc>
<stepDateTm date="unknown"/>
<stepProc>
<rpOrgName>Pictometry International Corp.</rpOrgName>
<rpPosName>Customer Support</rpPosName>
<rpCntInfo>
<cntPhone>
<voiceNum>585-486-0093</voiceNum>
<faxNum>585-486-0098</faxNum>
</cntPhone>
<cntAddress addressType="both">
<delPoint>25 Methodist Hill Drive</delPoint>
<delPoint>Suite A</delPoint>
<city>Rochester</city>
<adminArea>New York</adminArea>
<postCode>14623</postCode>
<country>US</country>
</cntAddress>
<cntHours>0900-1700 EST</cntHours>
</rpCntInfo>
<role>
<RoleCd value="009"/>
</role>
</stepProc>
</prcStep>
<dataSource>
<srcDesc>N/A</srcDesc>
<srcMedName>
<MedNameCd value="031"/>
</srcMedName>
<srcCitatn>
<resTitle>MN_Carver_Combined_Grid</resTitle>
<resAltTitle>disc</resAltTitle>
<date>
<pubDate>2024-05-29</pubDate>
</date>
<citRespParty>
<rpOrgName>Pictometry International</rpOrgName>
<role>
<RoleCd value="006"/>
</role>
</citRespParty>
<presForm>
<PresFormCd value="005"/>
</presForm>
<presForm>
<fgdcGeoform>vector digital data</fgdcGeoform>
</presForm>
</srcCitatn>
<srcExt>
<exDesc>ground condition</exDesc>
<tempEle>
<TempExtent>
<exTemp>
<TM_Period>
<tmBegin>2024-04-06</tmBegin>
<tmEnd>2024-05-08</tmEnd>
</TM_Period>
</exTemp>
</TempExtent>
</tempEle>
</srcExt>
</dataSource>
</dataLineage>
</dqInfo>
<spatRepInfo>
<VectSpatRep>
<geometObjs>
<geoObjTyp>
<GeoObjTypCd value="001"/>
</geoObjTyp>
<geoObjCnt>2008</geoObjCnt>
</geometObjs>
</VectSpatRep>
<Georect>
<cellGeo>
<CellGeoCd Sync="TRUE" value="002"/>
</cellGeo>
<numDims Sync="TRUE">2</numDims>
<tranParaAv Sync="TRUE">1</tranParaAv>
<chkPtAv Sync="TRUE">0</chkPtAv>
<cornerPts>
<pos Sync="TRUE">430320.000000 92136.000000</pos>
</cornerPts>
<cornerPts>
<pos Sync="TRUE">430320.000000 229416.000000</pos>
</cornerPts>
<cornerPts>
<pos Sync="TRUE">570240.000000 229416.000000</pos>
</cornerPts>
<cornerPts>
<pos Sync="TRUE">570240.000000 92136.000000</pos>
</cornerPts>
<centerPt>
<pos Sync="TRUE">500280.000000 160776.000000</pos>
</centerPt>
<axisDimension type="002">
<dimSize Sync="TRUE">279840</dimSize>
<dimResol>
<value Sync="TRUE" uom="ftUS">0.500000</value>
</dimResol>
</axisDimension>
<axisDimension type="001">
<dimSize Sync="TRUE">274560</dimSize>
<dimResol>
<value Sync="TRUE" uom="ftUS">0.500000</value>
</dimResol>
</axisDimension>
<ptInPixel>
<PixOrientCd Sync="TRUE" value="001"/>
</ptInPixel>
</Georect>
</spatRepInfo>
<eainfo>
<detailed Name="MN_Carver_Combined_Grid">
<enttyp>
<enttypl>MN_Carver_Combined_Grid</enttypl>
<enttypt Sync="TRUE">Feature Class</enttypt>
<enttypc Sync="TRUE">2008</enttypc>
<enttypd>Orthogonal Imagery</enttypd>
<enttypds>Pictometry International Corp.</enttypds>
</enttyp>
</detailed>
</eainfo>
<refSysInfo>
<RefSystem>
<refSysID>
<identCode Sync="TRUE" code="103717"/>
<idCodeSpace Sync="TRUE">Esri</idCodeSpace>
<idVersion Sync="TRUE">9.0.0</idVersion>
</refSysID>
</RefSystem>
</refSysInfo>
<contInfo>
<ImgDesc>
<contentTyp>
<ContentTypCd Sync="TRUE" value="001"/>
</contentTyp>
<covDim>
<Band>
<dimDescrp Sync="TRUE">Red</dimDescrp>
<maxVal Sync="TRUE">255.000000</maxVal>
<minVal Sync="TRUE">0.000000</minVal>
<bitsPerVal Sync="TRUE">8</bitsPerVal>
<valUnit>
<UOM type="length"/>
</valUnit>
</Band>
<Band>
<dimDescrp Sync="TRUE">Green</dimDescrp>
<maxVal Sync="TRUE">255.000000</maxVal>
<minVal Sync="TRUE">0.000000</minVal>
<bitsPerVal Sync="TRUE">8</bitsPerVal>
<valUnit>
<UOM type="length"/>
</valUnit>
</Band>
<Band>
<dimDescrp Sync="TRUE">Blue</dimDescrp>
<maxVal Sync="TRUE">255.000000</maxVal>
<minVal Sync="TRUE">0.000000</minVal>
<bitsPerVal Sync="TRUE">8</bitsPerVal>
<valUnit>
<UOM type="length"/>
</valUnit>
</Band>
</covDim>
</ImgDesc>
</contInfo>
</metadata>
